Back to the "Multiple platform build/check report"
Package 31/48 | Hostname | OS | Arch | BUILD | CHECK | BUILD BIN |
lymphoma1.6.5W. HuberLast Changed Date: 2007-03-06 07:14:28 -0800 Last Changed Rev: 234 | lamb1 | Linux (SUSE 10.1) | x86_64 | OK | WARNINGS | |
lemming | Windows Server 2003 (32-bit) | x64 | [ OK ] | WARNINGS | OK |
Package: lymphoma |
Version: 1.6.5 |
Command: D:\biocbld\bbs-2.0-bioc\R\bin\R.exe CMD build lymphoma |
RetCode: 0 |
Time: 100.5 seconds |
Status: OK |
PackageFile: lymphoma_1.6.5.tar.gz |
* checking for file 'lymphoma/DESCRIPTION' ... OK * preparing 'lymphoma': * checking DESCRIPTION meta-information ... OK * checking whether 'INDEX' is up-to-date ... NO * use '--force' to overwrite the existing 'INDEX' * installing the package to re-build vignettes installing R.css in D:/biocbld/bbs-2.0-data-experiment/tmpdir/Rinst414097720 ---------- Making package lymphoma ------------ adding build stamp to DESCRIPTION installing R files installing inst files installing data files installing man source files installing indices not zipping data installing help >>> Building/Updating help pages for package 'lymphoma' Formats: text html latex example chm gentlecol text html latex chm Microsoft HTML Help Compiler 4.74.8702 Compiling d:\biocbld\bbs-2.0-data-experiment\meat\lymphoma\chm\lymphoma.chm Compile time: 0 minutes, 0 seconds 2 Topics 2 Local links 0 Internet links 1 Graphic Created d:\biocbld\bbs-2.0-data-experiment\meat\lymphoma\chm\lymphoma.chm, 15,291 bytes Compression increased file by 9,180 bytes. adding MD5 sums * DONE (lymphoma) * creating vignettes ... OK * removing junk files * checking for LF line-endings in source files * checking for empty or unneeded directories * building 'lymphoma_1.6.5.tar.gz'