Back to the "Multiple platform build/check report"
Package 11/48 | Hostname | OS | Arch | BUILD | CHECK | BUILD BIN |
ecoliLeucine1.2.1Laurent GautierLast Changed Date: 2007-04-19 16:52:19 -0700 Last Changed Rev: 288 | lamb1 | Linux (SUSE 10.1) | x86_64 | OK | [ OK ] | |
lemming | Windows Server 2003 (32-bit) | x64 | OK | OK | OK |
Package: ecoliLeucine |
Version: 1.2.1 |
Command: /home/biocbuild/bbs-2.0-bioc/R/bin/R CMD check ecoliLeucine_1.2.1.tar.gz |
RetCode: 0 |
Time: 29.5 seconds |
Status: OK |
CheckDir: ecoliLeucine.Rcheck |
Warnings: 0 |
* checking for working latex ... OK * using log directory '/home/biocbuild/bbs-2.0-data-experiment/meat/ecoliLeucine.Rcheck' * using R version 2.5.1 (2007-06-27) * checking for file 'ecoliLeucine/DESCRIPTION' ... OK * this is package 'ecoliLeucine' version '1.2.1' * checking package dependencies ... OK * checking if this is a source package ... OK * checking whether package 'ecoliLeucine' can be installed ... OK * checking package directory ... OK * checking for portable file names ... OK * checking for sufficient/correct file permissions ... OK * checking DESCRIPTION meta-information ... OK * checking top-level files ... OK * checking index information ... OK * checking package subdirectories ... OK * checking whether the package can be loaded ... OK * checking whether the package can be loaded with stated dependencies ... OK * checking Rd files ... OK * checking Rd cross-references ... OK * checking for missing documentation entries ... OK * checking for code/documentation mismatches ... OK * checking Rd \usage sections ... OK * checking data for non-ASCII characters ... OK * creating ecoliLeucine-Ex.R ... OK * checking examples ... OK * creating ecoliLeucine-manual.tex ... OK * checking ecoliLeucine-manual.tex ... OK
ecoliLeucine.Rcheck/00install.out:
* Installing *source* package 'ecoliLeucine' ... ** data ** help >>> Building/Updating help pages for package 'ecoliLeucine' Formats: text html latex example ecoliLeucine text html latex ** building package indices ... * DONE (ecoliLeucine)