Back to the "Multiple platform build/check report"
| Package 46/48 | Hostname | OS | Arch | BUILD | CHECK | BUILD BIN |
XhybCasneuf1.0.0Tineke CasneufLast Changed Date: 2007-07-06 08:43:53 -0700 Last Changed Rev: 360 | lamb1 | Linux (SUSE 10.1) | x86_64 | OK | [ OK ] | |
| lemming | Windows Server 2003 (32-bit) | x64 | OK | OK | OK |
| Package: XhybCasneuf |
| Version: 1.0.0 |
| Command: /home/biocbuild/bbs-2.0-bioc/R/bin/R CMD check XhybCasneuf_1.0.0.tar.gz |
| RetCode: 0 |
| Time: 56.7 seconds |
| Status: OK |
| CheckDir: XhybCasneuf.Rcheck |
| Warnings: 0 |
* checking for working latex ... OK * using log directory '/home/biocbuild/bbs-2.0-data-experiment/meat/XhybCasneuf.Rcheck' * using R version 2.5.1 (2007-06-27) * checking for file 'XhybCasneuf/DESCRIPTION' ... OK * this is package 'XhybCasneuf' version '1.0.0' * checking package dependencies ... OK * checking if this is a source package ... OK * checking whether package 'XhybCasneuf' can be installed ... OK * checking package directory ... OK * checking for portable file names ... OK * checking for sufficient/correct file permissions ... OK * checking DESCRIPTION meta-information ... OK * checking top-level files ... OK * checking index information ... OK * checking package subdirectories ... OK * checking R files for non-ASCII characters ... OK * checking R files for syntax errors ... OK * checking whether the package can be loaded ... OK * checking whether the package can be loaded with stated dependencies ... OK * checking for unstated dependencies in R code ... OK * checking S3 generic/method consistency ... OK * checking replacement functions ... OK * checking foreign function calls ... OK * checking R code for possible problems ... OK * checking Rd files ... OK * checking Rd cross-references ... OK * checking for missing documentation entries ... OK * checking for code/documentation mismatches ... OK * checking Rd \usage sections ... OK * checking data for non-ASCII characters ... OK * creating XhybCasneuf-Ex.R ... OK * checking examples ... OK * checking package vignettes in 'inst/doc' ... OK * creating XhybCasneuf-manual.tex ... OK * checking XhybCasneuf-manual.tex ... OK
XhybCasneuf.Rcheck/00install.out:
* Installing *source* package 'XhybCasneuf' ...
** R
** data
** inst
** help
>>> Building/Updating help pages for package 'XhybCasneuf'
Formats: text html latex example
AffysTissue text html latex example
CustomsTissue text html latex example
XhybExamples-class text html latex example
ex1 text html latex example
plotExample text html latex example
runSimulation text html latex example
** building package indices ...
* DONE (XhybCasneuf)