Back to the "Multiple platform build/check report"
Package 27/48 | Hostname | OS | Arch | BUILD | CHECK | BUILD BIN |
Iyer5171.4.2Vince CareyLast Changed Date: 2007-07-10 04:15:48 -0700 Last Changed Rev: 390 | lamb1 | Linux (SUSE 10.1) | x86_64 | OK | OK | |
lemming | Windows Server 2003 (32-bit) | x64 | OK | [ OK ] | OK |
Package: Iyer517 |
Version: 1.4.2 |
Command: D:\biocbld\bbs-2.0-bioc\R\bin\R.exe CMD check Iyer517_1.4.2.tar.gz |
RetCode: 0 |
Time: 51.7 seconds |
Status: OK |
CheckDir: Iyer517.Rcheck |
Warnings: 0 |
* checking for working latex ... OK * using log directory 'D:/biocbld/bbs-2.0-data-experiment/meat/Iyer517.Rcheck' * using R version 2.5.1 (2007-06-27) * checking for file 'Iyer517/DESCRIPTION' ... OK * this is package 'Iyer517' version '1.4.2' * checking package dependencies ... OK * checking if this is a source package ... OK * checking whether package 'Iyer517' can be installed ... OK * checking package directory ... OK * checking for portable file names ... OK * checking DESCRIPTION meta-information ... OK * checking top-level files ... OK * checking index information ... OK * checking package subdirectories ... OK * checking R files for non-ASCII characters ... OK * checking R files for syntax errors ... OK * checking whether the package can be loaded ... OK * checking whether the package can be loaded with stated dependencies ... OK * checking for unstated dependencies in R code ... OK * checking S3 generic/method consistency ... OK * checking replacement functions ... OK * checking foreign function calls ... OK * checking R code for possible problems ... OK * checking Rd files ... OK * checking Rd cross-references ... OK * checking for missing documentation entries ... OK * checking for code/documentation mismatches ... OK * checking Rd \usage sections ... OK * checking data for non-ASCII characters ... OK * creating Iyer517-Ex.R ... OK * checking examples ... OK * checking package vignettes in 'inst/doc' ... OK * creating Iyer517-manual.tex ... OK * checking Iyer517-manual.tex ... OK
Iyer517.Rcheck/00install.out:
installing R.css in D:/biocbld/bbs-2.0-data-experiment/meat/Iyer517.Rcheck ---------- Making package Iyer517 ------------ adding build stamp to DESCRIPTION installing R files installing inst files installing data files installing man source files installing indices Loading required package: methods not zipping data installing help >>> Building/Updating help pages for package 'Iyer517' Formats: text html latex example chm Iyer517 text html latex example chm IyerAnnotated text html latex example chm get.dna2 text html latex example chm Microsoft HTML Help Compiler 4.74.8702 Compiling d:\biocbld\bbs-2.0-data-experiment\meat\Iyer517.Rcheck\00_pkg_src\Iyer517\chm\Iyer517.chm Compile time: 0 minutes, 0 seconds 4 Topics 7 Local links 1 Internet link 1 Graphic Created d:\biocbld\bbs-2.0-data-experiment\meat\Iyer517.Rcheck\00_pkg_src\Iyer517\chm\Iyer517.chm, 19,272 bytes Compression increased file by 6,816 bytes. adding MD5 sums * DONE (Iyer517)