Back to the "Multiple platform build/check report"
Package 3/48 | Hostname | OS | Arch | BUILD | CHECK | BUILD BIN |
ALLMLL1.2.2B. M. BolstadLast Changed Date: 2007-04-15 13:06:52 -0700 Last Changed Rev: 253 | lamb1 | Linux (SUSE 10.1) | x86_64 | OK | [ OK ] | |
lemming | Windows Server 2003 (32-bit) | x64 | OK | OK | OK |
Package: ALLMLL |
Version: 1.2.2 |
Command: /home/biocbuild/bbs-2.0-bioc/R/bin/R CMD check ALLMLL_1.2.2.tar.gz |
RetCode: 0 |
Time: 25.5 seconds |
Status: OK |
CheckDir: ALLMLL.Rcheck |
Warnings: 0 |
* checking for working latex ... OK * using log directory '/home/biocbuild/bbs-2.0-data-experiment/meat/ALLMLL.Rcheck' * using R version 2.5.1 (2007-06-27) * checking for file 'ALLMLL/DESCRIPTION' ... OK * this is package 'ALLMLL' version '1.2.2' * checking package dependencies ... OK * checking if this is a source package ... OK * checking whether package 'ALLMLL' can be installed ... OK * checking package directory ... OK * checking for portable file names ... OK * checking for sufficient/correct file permissions ... OK * checking DESCRIPTION meta-information ... OK * checking top-level files ... OK * checking index information ... OK * checking package subdirectories ... OK * checking whether the package can be loaded ... OK * checking whether the package can be loaded with stated dependencies ... OK * checking Rd files ... OK * checking Rd cross-references ... OK * checking for missing documentation entries ... OK * checking for code/documentation mismatches ... OK * checking Rd \usage sections ... OK * checking data for non-ASCII characters ... OK * creating ALLMLL-Ex.R ... OK * checking examples ... OK * creating ALLMLL-manual.tex ... OK * checking ALLMLL-manual.tex ... OK
ALLMLL.Rcheck/00install.out:
* Installing *source* package 'ALLMLL' ... ** data ** help >>> Building/Updating help pages for package 'ALLMLL' Formats: text html latex example MLL text html latex ** building package indices ... * DONE (ALLMLL)