| GLYPH TABLE - These are the glyphs used in this report to indicate the following package status: |
| - TIMEOUT |
BUILD, CHECK or BUILD BIN of package took more than 10 minutes |
| - ERROR |
BUILD, CHECK or BUILD BIN of package returned an error |
| - WARNINGS |
CHECK of package produced warnings |
| - OK |
BUILD, CHECK or BUILD BIN of package was OK |
| - skipped |
CHECK or BUILD BIN of package was skipped because the BUILD step failed (or because something bad happened with the Build System itself) |
| Click on any glyph in the report below to see the status details (command output). |
| [lamb1] |
Linux (SUSE 10.1) | x86_64 | | | |
| liverpool |
Windows Server 2003 R2 (32-bit) | x64 | | | |
|
| affy 1.14.0 | Rafael A. Irizarry | OK | OK | |
| affyio 1.4.0 | Benjamin Milo Bolstad | OK | OK | |
| affyPLM 1.12.0 | Ben Bolstad | OK | OK | |
| affyQCReport 1.14.0 | Craig Parman | OK | OK | |
| annaffy 1.8.1 | Colin A. Smith | OK | OK | |
| annotate 1.14.1 | Biocore Team | OK | OK | |
| Biobase 1.14.0 | Biocore Team | OK | OK | |
| Biostrings 2.4.2 | H. Pages | OK | OK | |
| BSgenome 1.4.0 | H. Pages | OK | OK | |
| Category 2.2.2 | S. Falcon | OK | OK | |
| DynDoc 1.14.0 | Biocore Team | OK | OK | |
| EBarrays 1.8.1 | Deepayan Sarkar | OK | OK | |
| gcrma 2.8.0 | Z. Wu | OK | OK | |
| genefilter 1.14.1 | Biocore Team | OK | OK | |
| geneplotter 1.14.0 | Biocore Team | OK | OK | |
| GOstats 2.2.1 | S. Falcon | OK | OK | |
| graph 1.14.0 | Seth Falcon | OK | OK | |
| limma 2.10.0 | Gordon Smyth | OK | OK | |
| marray 1.14.0 | Yee Hwa (Jean) Yang | OK | OK | |
| matchprobes 1.8.1 | Biocore Team | OK | OK | |
| multtest 1.14.0 | Katherine S. Pollard | OK | OK | |
| RBGL 1.12.0 | Li Long | OK | OK | |
| Rgraphviz 1.14.0 | Li Long | OK | OK | |
| ROC 1.10.0 | Vince Carey | OK | OK | |
| simpleaffy 2.10.3 | Crispin Miller | OK | OK | |
| tkWidgets 1.14.0 | J. Zhang | OK | OK | |
| vsn 2.2.0 | Wolfgang Huber | OK | OK | |
| widgetTools 1.12.0 | Jianhua Zhang | OK | OK | |