Back to the "Multiple platform build/check report"
| Package 212/214 | Hostname | OS | Arch | BUILD | CHECK | BUILD BIN |
widgetInvoke1.8.0Jeff GentryLast Changed Date: 2007-04-24 11:21:48 -0700 Last Changed Rev: 24214 | lamb1 | Linux (SUSE 10.1) | x86_64 | [ OK ] | ERROR | |
| wellington | Linux (SUSE 9.2) | i686 | OK | ERROR | ||
| lemming | Windows Server 2003 (32-bit) | x64 | N O T S U P P O R T E D | |||
| Package: widgetInvoke |
| Version: 1.8.0 |
| Command: /home/biocbuild/bbs-2.0-bioc/R/bin/R CMD build widgetInvoke |
| RetCode: 0 |
| Time: 4.5 seconds |
| Status: OK |
| PackageFile: widgetInvoke_1.8.0.tar.gz |
* checking for file 'widgetInvoke/DESCRIPTION' ... OK
* preparing 'widgetInvoke':
* checking DESCRIPTION meta-information ... OK
* installing the package to re-build vignettes
* Installing *source* package 'widgetInvoke' ...
** R
** inst
** save image
Loading required package: XML
Loading required package: RGtk
** help
>>> Building/Updating help pages for package 'widgetInvoke'
Formats: text html latex example
SimpleW-class text html latex example
createWF text html latex example
fun2wFun text html latex example
funArg-class text html latex example
testWIfun text html latex example
wFun-class text html latex example
widgetInvoke text html latex example
writeWIxml text html latex example
** building package indices ...
* DONE (widgetInvoke)
* creating vignettes ... OK
* removing junk files
* checking for LF line-endings in source files
* checking for empty or unneeded directories
* building 'widgetInvoke_1.8.0.tar.gz'