Back to the "Multiple platform build/check report"
| Package 210/214 | Hostname | OS | Arch | BUILD | CHECK | BUILD BIN |
weaver1.2.0Seth FalconLast Changed Date: 2007-04-24 11:21:48 -0700 Last Changed Rev: 24214 | lamb1 | Linux (SUSE 10.1) | x86_64 | OK | OK | |
| wellington | Linux (SUSE 9.2) | i686 | OK | OK | ||
| lemming | Windows Server 2003 (32-bit) | x64 | [ OK ] | OK | OK |
| Package: weaver |
| Version: 1.2.0 |
| Command: D:\biocbld\bbs-2.0-bioc\R\bin\R.exe CMD build weaver |
| RetCode: 0 |
| Time: 18.4 seconds |
| Status: OK |
| PackageFile: weaver_1.2.0.tar.gz |
* checking for file 'weaver/DESCRIPTION' ... OK
* preparing 'weaver':
* checking DESCRIPTION meta-information ... OK
* installing the package to re-build vignettes
installing R.css in D:/biocbld/bbs-2.0-bioc/tmpdir/Rinst510428021
---------- Making package weaver ------------
adding build stamp to DESCRIPTION
installing R files
installing inst files
preparing package weaver for lazy loading
Loading required package: digest
Loading required package: tools
Loading required package: codetools
installing man source files
installing indices
installing help
>>> Building/Updating help pages for package 'weaver'
Formats: text html latex example chm
internal text html latex chm
weaver text html latex example chm
Microsoft HTML Help Compiler 4.74.8702
Compiling d:\biocbld\bbs-2.0-bioc\meat\weaver\chm\weaver.chm
Compile time: 0 minutes, 0 seconds
3 Topics
23 Local links
1 Internet link
1 Graphic
Created d:\biocbld\bbs-2.0-bioc\meat\weaver\chm\weaver.chm, 21,977 bytes
Compression increased file by 1,321 bytes.
adding MD5 sums
* DONE (weaver)
* creating vignettes ... OK
* removing junk files
* checking for LF line-endings in source files
* checking for empty or unneeded directories
* building 'weaver_1.2.0.tar.gz'