Back to the "Multiple platform build/check report"
| Package 165/214 | Hostname | OS | Arch | BUILD | CHECK | BUILD BIN |
rbsurv1.2.0Sukwoo KimLast Changed Date: 2007-04-24 11:21:48 -0700 Last Changed Rev: 24214 | lamb1 | Linux (SUSE 10.1) | x86_64 | OK | OK | |
| wellington | Linux (SUSE 9.2) | i686 | OK | OK | ||
| lemming | Windows Server 2003 (32-bit) | x64 | [ OK ] | OK | OK |
| Package: rbsurv |
| Version: 1.2.0 |
| Command: D:\biocbld\bbs-2.0-bioc\R\bin\R.exe CMD build rbsurv |
| RetCode: 0 |
| Time: 65.9 seconds |
| Status: OK |
| PackageFile: rbsurv_1.2.0.tar.gz |
* checking for file 'rbsurv/DESCRIPTION' ... OK
* preparing 'rbsurv':
* checking DESCRIPTION meta-information ... OK
* checking whether 'INDEX' is up-to-date ... NO
* use '--force' to overwrite the existing 'INDEX'
* installing the package to re-build vignettes
installing R.css in D:/biocbld/bbs-2.0-bioc/tmpdir/Rinst453650750
---------- Making package rbsurv ------------
adding build stamp to DESCRIPTION
installing NAMESPACE file and metadata
installing R files
installing inst files
installing data files
installing man source files
installing indices
not zipping data
installing help
>>> Building/Updating help pages for package 'rbsurv'
Formats: text html latex example chm
glioma text html latex chm
glioma.cov text html latex chm
glioma.x text html latex chm
glioma.y text html latex chm
rbsurv text html latex example chm
Microsoft HTML Help Compiler 4.74.8702
Compiling d:\biocbld\bbs-2.0-bioc\meat\rbsurv\chm\rbsurv.chm
Compile time: 0 minutes, 0 seconds
6 Topics
10 Local links
0 Internet links
1 Graphic
Created d:\biocbld\bbs-2.0-bioc\meat\rbsurv\chm\rbsurv.chm, 18,773 bytes
Compression increased file by 3,909 bytes.
preparing package rbsurv for lazy loading
Loading required package: Biobase
Loading required package: tools
Welcome to Bioconductor
Vignettes contain introductory material. To view, type
'openVignette()'. To cite Bioconductor, see
'citation("Biobase")' and for packages 'citation(pkgname)'.
Loading required package: survival
Loading required package: splines
adding MD5 sums
* DONE (rbsurv)
* creating vignettes ... OK
* removing junk files
* checking for LF line-endings in source files
* checking for empty or unneeded directories
* building 'rbsurv_1.2.0.tar.gz'