Back to the "Multiple platform build/check report"
| Package 144/214 | Hostname | OS | Arch | BUILD | CHECK | BUILD BIN |
pathRender1.4.0Li LongLast Changed Date: 2007-04-24 11:21:48 -0700 Last Changed Rev: 24214 | lamb1 | Linux (SUSE 10.1) | x86_64 | OK | OK | |
| wellington | Linux (SUSE 9.2) | i686 | OK | OK | ||
| lemming | Windows Server 2003 (32-bit) | x64 | OK | OK | [ OK ] |
| Package: pathRender |
| Version: 1.4.0 |
| Command: D:\biocbld\bbs-2.0-bioc\R\bin\R.exe CMD INSTALL --build --library=pathRender.buildbin-libdir pathRender_1.4.0.tar.gz |
| RetCode: 0 |
| Time: 15.8 seconds |
| Status: OK |
| PackageFile: pathRender_1.4.0.zip |
installing R.css in D:/biocbld/bbs-2.0-bioc/meat/pathRender.buildbin-libdir
Using auto-selected zip options ''
---------- Making package pathRender ------------
adding build stamp to DESCRIPTION
installing NAMESPACE file and metadata
installing R files
save image
Loading required package: graph
Loading required package: Rgraphviz
Loading required package: geneplotter
Loading required package: annotate
Loading required package: Biobase
Loading required package: tools
Welcome to Bioconductor
Vignettes contain introductory material. To view, type
'openVignette()'. To cite Bioconductor, see
'citation("Biobase")' and for packages 'citation(pkgname)'.
Loading required package: lattice
KernSmooth 2.22 installed
Copyright M. P. Wand 1997
Attaching package: 'Rgraphviz'
The following object(s) are masked from package:annotate :
toFile
Loading required package: cMAP
installing man source files
installing indices
installing help
>>> Building/Updating help pages for package 'pathRender'
Formats: text html latex example chm
rendercMAP text html latex example chm
Microsoft HTML Help Compiler 4.74.8702
Compiling d:\biocbld\bbs-2.0-bioc\meat\R.INSTALL.4292\pathRender\chm\pathRender.chm
Compile time: 0 minutes, 0 seconds
2 Topics
2 Local links
0 Internet links
1 Graphic
Created d:\biocbld\bbs-2.0-bioc\meat\R.INSTALL.4292\pathRender\chm\pathRender.chm, 16,215 bytes
Compression increased file by 9,100 bytes.
adding MD5 sums
packaged installation of package 'pathRender' as pathRender_1.4.0.zip
* DONE (pathRender)