Back to the "Multiple platform build/check report"
| Package 143/214 | Hostname | OS | Arch | BUILD | CHECK | BUILD BIN |
panp1.7.1Peter WarrenLast Changed Date: 2007-06-19 19:54:38 -0700 Last Changed Rev: 25484 | lamb1 | Linux (SUSE 10.1) | x86_64 | [ OK ] | OK | |
| wellington | Linux (SUSE 9.2) | i686 | OK | OK | ||
| lemming | Windows Server 2003 (32-bit) | x64 | OK | OK | OK |
| Package: panp |
| Version: 1.7.1 |
| Command: /home/biocbuild/bbs-2.0-bioc/R/bin/R CMD build panp |
| RetCode: 0 |
| Time: 12.5 seconds |
| Status: OK |
| PackageFile: panp_1.7.1.tar.gz |
* checking for file 'panp/DESCRIPTION' ... OK
* preparing 'panp':
* checking DESCRIPTION meta-information ... OK
* installing the package to re-build vignettes
* Installing *source* package 'panp' ...
** R
** data
** inst
** help
>>> Building/Updating help pages for package 'panp'
Formats: text html latex example
NSMPnames.hgu133a text html latex
NSMPnames.hgu133plus2 text html latex
gcrma.ExpressionSet text html latex
gcrma.exprSet text html latex
pa.calls text html latex example
test133a text html latex
** building package indices ...
* DONE (panp)
* creating vignettes ... OK
* removing junk files
* excluding invalid files from 'panp'
Subdirectory 'man' contains invalid file names:
README
* checking for LF line-endings in source files
* checking for empty or unneeded directories
* building 'panp_1.7.1.tar.gz'