Back to the "Multiple platform build/check report"
| Package 133/214 | Hostname | OS | Arch | BUILD | CHECK | BUILD BIN |
nem1.6.0Florian MarkowetzLast Changed Date: 2007-04-24 11:21:48 -0700 Last Changed Rev: 24214 | lamb1 | Linux (SUSE 10.1) | x86_64 | [ OK ] | OK | |
| wellington | Linux (SUSE 9.2) | i686 | OK | OK | ||
| lemming | Windows Server 2003 (32-bit) | x64 | OK | OK | OK |
| Package: nem |
| Version: 1.6.0 |
| Command: /home/biocbuild/bbs-2.0-bioc/R/bin/R CMD build nem |
| RetCode: 0 |
| Time: 13.5 seconds |
| Status: OK |
| PackageFile: nem_1.6.0.tar.gz |
* checking for file 'nem/DESCRIPTION' ... OK
* preparing 'nem':
* checking DESCRIPTION meta-information ... OK
* installing the package to re-build vignettes
* Installing *source* package 'nem' ...
** R
** data
** inst
** preparing package for lazy loading
Loading required package: e1071
Loading required package: class
Loading required package: graph
Loading required package: Rgraphviz
Loading required package: geneplotter
Loading required package: annotate
Loading required package: Biobase
Loading required package: tools
Welcome to Bioconductor
Vignettes contain introductory material. To view, type
'openVignette()'. To cite Bioconductor, see
'citation("Biobase")' and for packages 'citation(pkgname)'.
Loading required package: lattice
KernSmooth 2.22 installed
Copyright M. P. Wand 1997
Attaching package: 'Rgraphviz'
The following object(s) are masked from package:annotate :
toFile
Loading required package: RBGL
Attaching package: 'RBGL'
The following object(s) are masked from package:e1071 :
extractPath
Loading required package: time
** help
>>> Building/Updating help pages for package 'nem'
Formats: text html latex example
BFSlevel text html latex example
BoutrosRNAi2002 text html latex example
FULLmLL text html latex example
SCCgraph text html latex example
enumerate.models text html latex example
local.model.prior text html latex example
mLL text html latex example
moduleNetwork text html latex example
nem text html latex example
nem.cont.preprocess text html latex example
nem.discretize text html latex example
nemModelSelection text html latex example
network.AIC text html latex example
pairwise.posterior text html latex example
plot.effects text html latex example
plot.nem text html latex
score text html latex example
subsets text html latex example
transitive.closure text html latex example
transitive.reduction text html latex example
triples.posterior text html latex example
** building package indices ...
* DONE (nem)
* creating vignettes ... OK
* removing junk files
* checking for LF line-endings in source files
* checking for empty or unneeded directories
* building 'nem_1.6.0.tar.gz'