Back to the "Multiple platform build/check report"
| Package 124/214 | Hostname | OS | Arch | BUILD | CHECK | BUILD BIN | 
| matchprobes1.8.1Biocore TeamLast Changed Date: 2007-04-27 11:51:01 -0700 Last Changed Rev: 24341 | lamb1 | Linux (SUSE 10.1) | x86_64 | OK | OK | |
| wellington | Linux (SUSE 9.2) | i686 | OK | OK | ||
| lemming | Windows Server 2003 (32-bit) | x64 | OK | OK | [ OK ] | 
| Package: matchprobes | 
| Version: 1.8.1 | 
| Command: D:\biocbld\bbs-2.0-bioc\R\bin\R.exe CMD INSTALL --build --library=matchprobes.buildbin-libdir matchprobes_1.8.1.tar.gz | 
| RetCode: 0 | 
| Time: 18.4 seconds | 
| Status: OK | 
| PackageFile: matchprobes_1.8.1.zip | 
installing R.css in D:/biocbld/bbs-2.0-bioc/meat/matchprobes.buildbin-libdir
Using auto-selected zip options ''
---------- Making package matchprobes ------------
  adding build stamp to DESCRIPTION
  making DLL ...
making matchprobes.d from matchprobes.c
making strutils.d from strutils.c
gcc   -ID:/biocbld/bbs-2.0-bioc/R/include  -Wall -O3 -std=gnu99   -c matchprobes.c -o matchprobes.o
gcc   -ID:/biocbld/bbs-2.0-bioc/R/include  -Wall -O3 -std=gnu99   -c strutils.c -o strutils.o
windres -I D:/biocbld/bbs-2.0-bioc/R/include  -i matchprobes_res.rc -o matchprobes_res.o
gcc  -shared -s  -o matchprobes.dll matchprobes.def matchprobes.o strutils.o matchprobes_res.o  -LD:/biocbld/bbs-2.0-bioc/R/bin    -lR
  ... DLL made
  installing DLL
  installing R files
  save image
Loading required package: Biobase
Loading required package: tools
Welcome to Bioconductor
  Vignettes contain introductory material. To view, type
  'openVignette()'. To cite Bioconductor, see
  'citation("Biobase")' and for packages 'citation(pkgname)'.
Loading required package: affy
Loading required package: affyio
  installing inst files
  installing data files
  installing man source files
  installing indices
  not zipping data
  installing help
 >>> Building/Updating help pages for package 'matchprobes'
     Formats: text html latex example chm 
  basecontent                       text    html    latex   example chm
  combineAffyBatch                  text    html    latex   example chm
  complementSeq                     text    html    latex   example chm
  getProbeDataAffy                  text    html    latex   example chm
  getProbeData_1lq                  text    html    latex   example chm
  longestConsecutive                text    html    latex   example chm
  makeProbePackage                  text    html    latex   example chm
  matchprobes                       text    html    latex   example chm
  print.probetable                  text    html    latex   example chm
  reverseSeq                        text    html    latex   example chm
Microsoft HTML Help Compiler 4.74.8702
Compiling d:\biocbld\bbs-2.0-bioc\meat\R.INSTALL.840\matchprobes\chm\matchprobes.chm
Compile time: 0 minutes, 0 seconds
11	Topics
32	Local links
1	Internet link
1	Graphic
Created d:\biocbld\bbs-2.0-bioc\meat\R.INSTALL.840\matchprobes\chm\matchprobes.chm, 30,004 bytes
Compression decreased file by 8,349 bytes.
  adding MD5 sums
packaged installation of package 'matchprobes' as matchprobes_1.8.1.zip
* DONE (matchprobes)