Back to the "Multiple platform build/check report"
| Package 118/214 | Hostname | OS | Arch | BUILD | CHECK | BUILD BIN | 
| makePlatformDesign1.0.0Benilton CarvalhoLast Changed Date: 2007-04-24 11:21:48 -0700 Last Changed Rev: 24214 | lamb1 | Linux (SUSE 10.1) | x86_64 | OK | OK | |
| wellington | Linux (SUSE 9.2) | i686 | OK | OK | ||
| lemming | Windows Server 2003 (32-bit) | x64 | [ OK ] | OK | OK | 
| Package: makePlatformDesign | 
| Version: 1.0.0 | 
| Command: D:\biocbld\bbs-2.0-bioc\R\bin\R.exe CMD build makePlatformDesign | 
| RetCode: 0 | 
| Time: 1.5 seconds | 
| Status: OK | 
| PackageFile: makePlatformDesign_1.0.0.tar.gz | 
* checking for file 'makePlatformDesign/DESCRIPTION' ... OK * preparing 'makePlatformDesign': * checking DESCRIPTION meta-information ... OK * cleaning src * removing junk files * checking for LF line-endings in source files * checking for empty or unneeded directories WARNING: directory 'makePlatformDesign/inst/Code/data' is empty WARNING: directory 'makePlatformDesign/inst/Code/man' is empty * building 'makePlatformDesign_1.0.0.tar.gz'