Back to the "Multiple platform build/check report"
| Package 88/214 | Hostname | OS | Arch | BUILD | CHECK | BUILD BIN |
goTools1.8.0Agnes PaquetLast Changed Date: 2007-04-24 11:21:48 -0700 Last Changed Rev: 24214 | lamb1 | Linux (SUSE 10.1) | x86_64 | OK | TIMEOUT | |
| wellington | Linux (SUSE 9.2) | i686 | OK | OK | ||
| lemming | Windows Server 2003 (32-bit) | x64 | [ OK ] | OK | OK |
| Package: goTools |
| Version: 1.8.0 |
| Command: D:\biocbld\bbs-2.0-bioc\R\bin\R.exe CMD build goTools |
| RetCode: 0 |
| Time: 102.2 seconds |
| Status: OK |
| PackageFile: goTools_1.8.0.tar.gz |
* checking for file 'goTools/DESCRIPTION' ... OK
* preparing 'goTools':
* checking DESCRIPTION meta-information ... OK
* checking whether 'INDEX' is up-to-date ... NO
* use '--force' to overwrite the existing 'INDEX'
* installing the package to re-build vignettes
installing R.css in D:/biocbld/bbs-2.0-bioc/tmpdir/Rinst605267465
---------- Making package goTools ------------
adding build stamp to DESCRIPTION
installing R files
save image
Loading required package: Biobase
Loading required package: tools
Welcome to Bioconductor
Vignettes contain introductory material. To view, type
'openVignette()'. To cite Bioconductor, see
'citation("Biobase")' and for packages 'citation(pkgname)'.
Loading required package: annotate
Loading required package: GO
installing inst files
installing data files
installing man source files
installing indices
not zipping data
installing help
>>> Building/Updating help pages for package 'goTools'
Formats: text html latex example chm
EndNodeList text html latex example chm
goTools-internal text html latex chm
ontoCompare text html latex example chm
probeID text html latex chm
Microsoft HTML Help Compiler 4.74.8702
Compiling d:\biocbld\bbs-2.0-bioc\meat\goTools\chm\goTools.chm
Compile time: 0 minutes, 0 seconds
5 Topics
26 Local links
0 Internet links
1 Graphic
Created d:\biocbld\bbs-2.0-bioc\meat\goTools\chm\goTools.chm, 19,906 bytes
Compression increased file by 1,256 bytes.
adding MD5 sums
* DONE (goTools)
* creating vignettes ... OK
* removing junk files
* checking for LF line-endings in source files
* checking for empty or unneeded directories
* building 'goTools_1.8.0.tar.gz'