Back to the "Multiple platform build/check report"
| Package 71/214 | Hostname | OS | Arch | BUILD | CHECK | BUILD BIN |
genefilter1.14.1Biocore TeamLast Changed Date: 2007-04-24 14:06:35 -0700 Last Changed Rev: 24226 | lamb1 | Linux (SUSE 10.1) | x86_64 | [ OK ] | OK | |
| wellington | Linux (SUSE 9.2) | i686 | OK | OK | ||
| lemming | Windows Server 2003 (32-bit) | x64 | OK | OK | OK |
| Package: genefilter |
| Version: 1.14.1 |
| Command: /home/biocbuild/bbs-2.0-bioc/R/bin/R CMD build genefilter |
| RetCode: 0 |
| Time: 13.5 seconds |
| Status: OK |
| PackageFile: genefilter_1.14.1.tar.gz |
* checking for file 'genefilter/DESCRIPTION' ... OK
* preparing 'genefilter':
* checking DESCRIPTION meta-information ... OK
* cleaning src
* installing the package to re-build vignettes
* Installing *source* package 'genefilter' ...
** libs
g++ -I/home/biocbuild/bbs-2.0-bioc/R/include -I/home/biocbuild/bbs-2.0-bioc/R/include -I/usr/local/include -fpic -g -O2 -Wall -c half_range_mode.cpp -o half_range_mode.o
gcc -std=gnu99 -I/home/biocbuild/bbs-2.0-bioc/R/include -I/home/biocbuild/bbs-2.0-bioc/R/include -I/usr/local/include -fpic -g -O2 -Wall -c init.c -o init.o
gcc -std=gnu99 -I/home/biocbuild/bbs-2.0-bioc/R/include -I/home/biocbuild/bbs-2.0-bioc/R/include -I/usr/local/include -fpic -g -O2 -Wall -c nd.c -o nd.o
nd.c: In function 'gf_dist_binary':
nd.c:219: warning: unused variable 'w2'
nd.c:219: warning: unused variable 'w1'
gcc -std=gnu99 -I/home/biocbuild/bbs-2.0-bioc/R/include -I/home/biocbuild/bbs-2.0-bioc/R/include -I/usr/local/include -fpic -g -O2 -Wall -c pAUC.c -o pAUC.o
pAUC.c: In function 'pAUC_c':
pAUC.c:75: warning: operation on 'ta' may be undefined
pAUC.c:78: warning: operation on 'ta' may be undefined
pAUC.c:81: warning: operation on 'ta' may be undefined
pAUC.c: In function 'pAUC':
pAUC.c:141: warning: suggest parentheses around comparison in operand of |
pAUC.c:123: warning: unused variable 'i'
pAUC.c: In function 'pAUC_c':
pAUC.c:22: warning: 'ysum' may be used uninitialized in this function
pAUC.c:22: warning: 'xsum' may be used uninitialized in this function
gcc -std=gnu99 -I/home/biocbuild/bbs-2.0-bioc/R/include -I/home/biocbuild/bbs-2.0-bioc/R/include -I/usr/local/include -fpic -g -O2 -Wall -c rowPAUCs.c -o rowPAUCs.o
rowPAUCs.c: In function 'ROCpAUC_c':
rowPAUCs.c:95: warning: operation on 'ta' may be undefined
rowPAUCs.c:98: warning: operation on 'ta' may be undefined
rowPAUCs.c:101: warning: operation on 'ta' may be undefined
rowPAUCs.c:23: warning: 'ysum' may be used uninitialized in this function
rowPAUCs.c:23: warning: 'xsum' may be used uninitialized in this function
gcc -std=gnu99 -I/home/biocbuild/bbs-2.0-bioc/R/include -I/home/biocbuild/bbs-2.0-bioc/R/include -I/usr/local/include -fpic -g -O2 -Wall -c rowttests.c -o rowttests.o
gfortran -fpic -g -O2 -Wall -c ttest.f -o ttest.o
g++ -shared -L/usr/local/lib64 -o genefilter.so half_range_mode.o init.o nd.o pAUC.o rowPAUCs.o rowttests.o ttest.o -lgfortran -lm -lgcc_s -L/home/biocbuild/bbs-2.0-bioc/R/lib -lR
** R
** data
** moving datasets to lazyload DB
** inst
** save image
Loading required package: Biobase
Loading required package: tools
Welcome to Bioconductor
Vignettes contain introductory material. To view, type
'openVignette()'. To cite Bioconductor, see
'citation("Biobase")' and for packages 'citation(pkgname)'.
Loading required package: survival
Loading required package: splines
Creating a new generic function for "plot" in "genefilter"
** help
>>> Building/Updating help pages for package 'genefilter'
Formats: text html latex example
Anova text html latex example
allNA text html latex example
coxfilter text html latex example
cv text html latex example
eSetFilter text html latex example
filterfun text html latex example
findLargest text html latex example
gapFilter text html latex example
genefilter text html latex example
genefinder text html latex example
genescale text html latex example
half.range.mode text html latex example
kOverA text html latex example
maxA text html latex example
nsFilter text html latex example
pOverA text html latex example
rowFtests text html latex example
rowROC-class text html latex example
rowSds text html latex example
rowpAUCs text html latex example
shorth text html latex example
tdata text html latex example
ttest text html latex example
** building package indices ...
* DONE (genefilter)
* creating vignettes ... OK
* cleaning src
* removing junk files
* checking for LF line-endings in source files
* checking for empty or unneeded directories
* building 'genefilter_1.14.1.tar.gz'