Back to the "Multiple platform build/check report"
| Package 75/214 | Hostname | OS | Arch | BUILD | CHECK | BUILD BIN | 
| geneRecommender1.8.0Greg HatherLast Changed Date: 2007-04-24 11:21:48 -0700 Last Changed Rev: 24214 | lamb1 | Linux (SUSE 10.1) | x86_64 | [ OK ] | OK | |
| wellington | Linux (SUSE 9.2) | i686 | OK | OK | ||
| lemming | Windows Server 2003 (32-bit) | x64 | OK | OK | OK | 
| Package: geneRecommender | 
| Version: 1.8.0 | 
| Command: /home/biocbuild/bbs-2.0-bioc/R/bin/R CMD build geneRecommender | 
| RetCode: 0 | 
| Time: 3.5 seconds | 
| Status: OK | 
| PackageFile: geneRecommender_1.8.0.tar.gz | 
* checking for file 'geneRecommender/DESCRIPTION' ... OK
* preparing 'geneRecommender':
* checking DESCRIPTION meta-information ... OK
* installing the package to re-build vignettes
* Installing *source* package 'geneRecommender' ...
** R
** inst
** help
 >>> Building/Updating help pages for package 'geneRecommender'
     Formats: text html latex example 
  gr.cv                             text    html    latex   example
  gr.main                           text    html    latex   example
  gr.normalize                      text    html    latex   example
** building package indices ...
* DONE (geneRecommender)
* creating vignettes ... OK
* removing junk files
* checking for LF line-endings in source files
* checking for empty or unneeded directories
* building 'geneRecommender_1.8.0.tar.gz'