Back to the "Multiple platform build/check report"
| Package 69/214 | Hostname | OS | Arch | BUILD | CHECK | BUILD BIN |
gcrma2.8.1Z. WuLast Changed Date: 2007-05-16 13:18:58 -0700 Last Changed Rev: 24722 | lamb1 | Linux (SUSE 10.1) | x86_64 | OK | OK | |
| wellington | Linux (SUSE 9.2) | i686 | OK | OK | ||
| lemming | Windows Server 2003 (32-bit) | x64 | OK | [ OK ] | OK |
| Package: gcrma |
| Version: 2.8.1 |
| Command: D:\biocbld\bbs-2.0-bioc\R\bin\R.exe CMD check gcrma_2.8.1.tar.gz |
| RetCode: 0 |
| Time: 228.0 seconds |
| Status: OK |
| CheckDir: gcrma.Rcheck |
| Warnings: 0 |
* checking for working latex ... OK * using log directory 'D:/biocbld/bbs-2.0-bioc/meat/gcrma.Rcheck' * using R version 2.5.1 (2007-06-27) * checking for file 'gcrma/DESCRIPTION' ... OK * this is package 'gcrma' version '2.8.1' * checking package dependencies ... OK * checking if this is a source package ... OK * checking whether package 'gcrma' can be installed ... OK * checking package directory ... OK * checking for portable file names ... OK * checking DESCRIPTION meta-information ... OK * checking top-level files ... OK * checking index information ... OK * checking package subdirectories ... OK * checking R files for non-ASCII characters ... OK * checking R files for syntax errors ... OK * checking whether the package can be loaded ... OK * checking whether the package can be loaded with stated dependencies ... OK * checking whether the name space can be loaded with stated dependencies ... OK * checking for unstated dependencies in R code ... OK * checking S3 generic/method consistency ... OK * checking replacement functions ... OK * checking foreign function calls ... OK * checking R code for possible problems ... OK * checking Rd files ... OK * checking Rd cross-references ... OK * checking for missing documentation entries ... OK * checking for code/documentation mismatches ... OK * checking Rd \usage sections ... OK * checking data for non-ASCII characters ... OK * checking for CRLF line endings in C/C++/Fortran sources/headers ... OK * checking for portable use of $BLAS_LIBS ... OK * creating gcrma-Ex.R ... OK * checking examples ... OK * checking package vignettes in 'inst/doc' ... OK * creating gcrma-manual.tex ... OK * checking gcrma-manual.tex ... OK
gcrma.Rcheck/00install.out:
installing R.css in D:/biocbld/bbs-2.0-bioc/meat/gcrma.Rcheck
---------- Making package gcrma ------------
adding build stamp to DESCRIPTION
installing NAMESPACE file and metadata
making DLL ...
making baseProfile.d from baseProfile.c
making computeAffinities.d from computeAffinities.c
making postmean.d from postmean.c
gcc -Id:/biocbld/bbs-2.0-bioc/R/include -Wall -O3 -std=gnu99 -c baseProfile.c -o baseProfile.o
baseProfile.c: In function `gcrma_getSeq2':
baseProfile.c:14: warning: unused variable `nx'
gcc -Id:/biocbld/bbs-2.0-bioc/R/include -Wall -O3 -std=gnu99 -c computeAffinities.c -o computeAffinities.o
gcc -Id:/biocbld/bbs-2.0-bioc/R/include -Wall -O3 -std=gnu99 -c postmean.c -o postmean.o
windres -I d:/biocbld/bbs-2.0-bioc/R/include -i gcrma_res.rc -o gcrma_res.o
gcc -shared -s -o gcrma.dll gcrma.def baseProfile.o computeAffinities.o postmean.o gcrma_res.o -Ld:/biocbld/bbs-2.0-bioc/R/bin -lR
... DLL made
installing DLL
installing R files
installing inst files
installing data files
installing man source files
installing indices
not zipping data
installing help
>>> Building/Updating help pages for package 'gcrma'
Formats: text html latex example chm
affinity.spline.coefs text html latex chm
bg.adjust.affinities text html latex chm
bg.adjust.gcrma text html latex example chm
bg.parameters.ns text html latex chm
compute.affinities text html latex chm
fast.bkg text html latex chm
gcrma text html latex example chm
gcrma.engine text html latex example chm
gcrma.engine2 text html latex example chm
getCDF text html latex chm
justGCRMA text html latex example chm
Microsoft HTML Help Compiler 4.74.8702
Compiling d:\biocbld\bbs-2.0-bioc\meat\gcrma.Rcheck\00_pkg_src\gcrma\chm\gcrma.chm
Compile time: 0 minutes, 0 seconds
12 Topics
45 Local links
0 Internet links
1 Graphic
Created d:\biocbld\bbs-2.0-bioc\meat\gcrma.Rcheck\00_pkg_src\gcrma\chm\gcrma.chm, 32,274 bytes
Compression decreased file by 23,594 bytes.
preparing package gcrma for lazy loading
Loading required package: Biobase
Loading required package: tools
Welcome to Bioconductor
Vignettes contain introductory material. To view, type
'openVignette()'. To cite Bioconductor, see
'citation("Biobase")' and for packages 'citation(pkgname)'.
Loading required package: affy
Loading required package: affyio
Loading required package: matchprobes
Loading required package: splines
adding MD5 sums
* DONE (gcrma)