Back to the "Multiple platform build/check report"
| Package 67/214 | Hostname | OS | Arch | BUILD | CHECK | BUILD BIN |
flowViz1.0.0Florian HahneLast Changed Date: 2007-04-24 11:21:48 -0700 Last Changed Rev: 24214 | lamb1 | Linux (SUSE 10.1) | x86_64 | OK | OK | |
| wellington | Linux (SUSE 9.2) | i686 | OK | ERROR | ||
| lemming | Windows Server 2003 (32-bit) | x64 | OK | [ OK ] | OK |
| Package: flowViz |
| Version: 1.0.0 |
| Command: D:\biocbld\bbs-2.0-bioc\R\bin\R.exe CMD check flowViz_1.0.0.tar.gz |
| RetCode: 0 |
| Time: 230.3 seconds |
| Status: OK |
| CheckDir: flowViz.Rcheck |
| Warnings: 0 |
* checking for working latex ... OK * using log directory 'D:/biocbld/bbs-2.0-bioc/meat/flowViz.Rcheck' * using R version 2.5.1 (2007-06-27) * checking for file 'flowViz/DESCRIPTION' ... OK * checking extension type ... Package * this is package 'flowViz' version '1.0.0' * checking package dependencies ... OK * checking if this is a source package ... OK * checking whether package 'flowViz' can be installed ... OK * checking package directory ... OK * checking for portable file names ... OK * checking DESCRIPTION meta-information ... OK * checking top-level files ... OK * checking index information ... OK * checking package subdirectories ... OK * checking R files for non-ASCII characters ... OK * checking R files for syntax errors ... OK * checking whether the package can be loaded ... OK * checking whether the package can be loaded with stated dependencies ... OK * checking whether the name space can be loaded with stated dependencies ... OK * checking for unstated dependencies in R code ... OK * checking S3 generic/method consistency ... OK * checking replacement functions ... OK * checking foreign function calls ... OK * checking R code for possible problems ... OK * checking Rd files ... OK * checking Rd cross-references ... OK * checking for missing documentation entries ... OK * checking for code/documentation mismatches ... OK * checking Rd \usage sections ... OK * creating flowViz-Ex.R ... OK * checking examples ... OK * creating flowViz-manual.tex ... OK * checking flowViz-manual.tex ... OK
flowViz.Rcheck/00install.out:
installing R.css in D:/biocbld/bbs-2.0-bioc/meat/flowViz.Rcheck
---------- Making package flowViz ------------
adding build stamp to DESCRIPTION
installing NAMESPACE file and metadata
installing R files
installing man source files
installing indices
installing help
>>> Building/Updating help pages for package 'flowViz'
Formats: text html latex example chm
flowPlot text html latex example chm
flowViz-package text html latex example chm
latticeMethods-flowSet text html latex example chm
Microsoft HTML Help Compiler 4.74.8702
Compiling d:\biocbld\bbs-2.0-bioc\meat\flowViz.Rcheck\00_pkg_src\flowViz\chm\flowViz.chm
Compile time: 0 minutes, 0 seconds
4 Topics
21 Local links
0 Internet links
1 Graphic
Created d:\biocbld\bbs-2.0-bioc\meat\flowViz.Rcheck\00_pkg_src\flowViz\chm\flowViz.chm, 26,208 bytes
Compression decreased file by 3,264 bytes.
preparing package flowViz for lazy loading
Loading required package: flowCore
Loading required package: Biobase
Loading required package: tools
Welcome to Bioconductor
Vignettes contain introductory material. To view, type
'openVignette()'. To cite Bioconductor, see
'citation("Biobase")' and for packages 'citation(pkgname)'.
Loading required package: rrcov
KernSmooth 2.22 installed
Copyright M. P. Wand 1997
Loading required package: rgl
Loading required package: geneplotter
Loading required package: annotate
Loading required package: lattice
Loading required package: MASS
Creating a new generic function for "densityplot" in "flowViz"
Creating a new generic function for "xyplot" in "flowViz"
Creating a new generic function for "levelplot" in "flowViz"
Creating a new generic function for "qqmath" in "flowViz"
Creating a new generic function for "splom" in "flowViz"
Creating a new generic function for "parallel" in "flowViz"
adding MD5 sums
* DONE (flowViz)