Back to the "Multiple platform build/check report"
| Package 64/214 | Hostname | OS | Arch | BUILD | CHECK | BUILD BIN |
fbat1.0.0Weiliang QiuLast Changed Date: 2007-04-24 11:21:48 -0700 Last Changed Rev: 24214 | lamb1 | Linux (SUSE 10.1) | x86_64 | OK | OK | |
| wellington | Linux (SUSE 9.2) | i686 | OK | OK | ||
| lemming | Windows Server 2003 (32-bit) | x64 | OK | [ OK ] | OK |
| Package: fbat |
| Version: 1.0.0 |
| Command: D:\biocbld\bbs-2.0-bioc\R\bin\R.exe CMD check fbat_1.0.0.tar.gz |
| RetCode: 0 |
| Time: 62.4 seconds |
| Status: OK |
| CheckDir: fbat.Rcheck |
| Warnings: 0 |
* checking for working latex ... OK * using log directory 'D:/biocbld/bbs-2.0-bioc/meat/fbat.Rcheck' * using R version 2.5.1 (2007-06-27) * checking for file 'fbat/DESCRIPTION' ... OK * this is package 'fbat' version '1.0.0' * checking package dependencies ... OK * checking if this is a source package ... OK * checking whether package 'fbat' can be installed ... OK * checking package directory ... OK * checking for portable file names ... OK * checking DESCRIPTION meta-information ... OK * checking top-level files ... OK * checking index information ... OK * checking package subdirectories ... OK * checking R files for non-ASCII characters ... OK * checking R files for syntax errors ... OK * checking whether the package can be loaded ... OK * checking whether the package can be loaded with stated dependencies ... OK * checking whether the name space can be loaded with stated dependencies ... OK * checking for unstated dependencies in R code ... OK * checking S3 generic/method consistency ... OK * checking replacement functions ... OK * checking foreign function calls ... OK * checking R code for possible problems ... OK * checking Rd files ... OK * checking Rd cross-references ... OK * checking for missing documentation entries ... OK * checking for code/documentation mismatches ... OK * checking Rd \usage sections ... OK * checking data for non-ASCII characters ... OK * checking for CRLF line endings in C/C++/Fortran sources/headers ... OK * checking for portable use of $BLAS_LIBS ... OK * creating fbat-Ex.R ... OK * checking examples ... OK * checking package vignettes in 'inst/doc' ... OK * creating fbat-manual.tex ... OK * checking fbat-manual.tex ... OK
fbat.Rcheck/00install.out:
installing R.css in D:/biocbld/bbs-2.0-bioc/meat/fbat.Rcheck
---------- Making package fbat ------------
adding build stamp to DESCRIPTION
installing NAMESPACE file and metadata
making DLL ...
making FBAT.d from FBAT.c
making register.d from register.c
gcc -Id:/biocbld/bbs-2.0-bioc/R/include -Wall -O3 -std=gnu99 -c FBAT.c -o FBAT.o
FBAT.c: In function `countLines':
FBAT.c:2091: warning: 'tmpnc2' might be used uninitialized in this function
FBAT.c: In function `checkoneNuclearFamily':
FBAT.c:1627: warning: 'sex1' might be used uninitialized in this function
FBAT.c:1627: warning: 'sex2' might be used uninitialized in this function
FBAT.c: In function `checkdecomposePed':
FBAT.c:1556: warning: 'i' might be used uninitialized in this function
FBAT.c: In function `checkCompatible':
FBAT.c:1394: warning: 'start2' might be used uninitialized in this function
FBAT.c: In function `oneNuclearFamily':
FBAT.c:1808: warning: 'sex1' might be used uninitialized in this function
FBAT.c:1808: warning: 'sex2' might be used uninitialized in this function
FBAT.c: In function `decomposePed':
FBAT.c:1935: warning: 'i' might be used uninitialized in this function
FBAT.c: In function `fbat':
FBAT.c:43: warning: 'start2' might be used uninitialized in this function
gcc -Id:/biocbld/bbs-2.0-bioc/R/include -Wall -O3 -std=gnu99 -c register.c -o register.o
windres -I d:/biocbld/bbs-2.0-bioc/R/include -i fbat_res.rc -o fbat_res.o
gcc -shared -s -o fbat.dll fbat.def FBAT.o register.o fbat_res.o -Ld:/biocbld/bbs-2.0-bioc/R/bin -lR
... DLL made
installing DLL
installing R files
save image
Loading required package: MASS
installing inst files
installing data files
installing man source files
installing indices
Loading required package: methods
Loading required package: combinat
Attaching package: 'combinat'
The following object(s) are masked from package:utils :
combn
Loading required package: xtable
Loading required package: mvtnorm
not zipping data
installing help
>>> Building/Updating help pages for package 'fbat'
Formats: text html latex example chm
CAMP text html latex example chm
checkMarkers text html latex example chm
fbat text html latex example chm
geneSet2Ped text html latex example chm
pedAFreq text html latex example chm
pedFlagHomo text html latex example chm
pedGFreq text html latex example chm
pedHardyWeinberg text html latex example chm
summaryPvalue text html latex example chm
viewFlagHomo text html latex example chm
viewHW text html latex example chm
viewstat text html latex example chm
Microsoft HTML Help Compiler 4.74.8702
Compiling d:\biocbld\bbs-2.0-bioc\meat\fbat.Rcheck\00_pkg_src\fbat\chm\fbat.chm
Compile time: 0 minutes, 0 seconds
13 Topics
24 Local links
3 Internet links
1 Graphic
Created d:\biocbld\bbs-2.0-bioc\meat\fbat.Rcheck\00_pkg_src\fbat\chm\fbat.chm, 29,651 bytes
Compression decreased file by 14,017 bytes.
adding MD5 sums
* DONE (fbat)