Back to the "Multiple platform build/check report"
| Package 48/214 | Hostname | OS | Arch | BUILD | CHECK | BUILD BIN |
copa1.4.0James W. MacDonaldLast Changed Date: 2007-04-24 11:21:48 -0700 Last Changed Rev: 24214 | lamb1 | Linux (SUSE 10.1) | x86_64 | OK | [ OK ] | |
| wellington | Linux (SUSE 9.2) | i686 | OK | OK | ||
| lemming | Windows Server 2003 (32-bit) | x64 | OK | OK | OK |
| Package: copa |
| Version: 1.4.0 |
| Command: /home/biocbuild/bbs-2.0-bioc/R/bin/R CMD check copa_1.4.0.tar.gz |
| RetCode: 0 |
| Time: 26.7 seconds |
| Status: OK |
| CheckDir: copa.Rcheck |
| Warnings: 0 |
* checking for working latex ... OK * using log directory '/home/biocbuild/bbs-2.0-bioc/meat/copa.Rcheck' * using R version 2.5.1 (2007-06-27) * checking for file 'copa/DESCRIPTION' ... OK * this is package 'copa' version '1.4.0' * checking package dependencies ... OK * checking if this is a source package ... OK * checking whether package 'copa' can be installed ... OK * checking package directory ... OK * checking for portable file names ... OK * checking for sufficient/correct file permissions ... OK * checking DESCRIPTION meta-information ... OK * checking top-level files ... OK * checking index information ... OK * checking package subdirectories ... OK * checking R files for non-ASCII characters ... OK * checking R files for syntax errors ... OK * checking whether the package can be loaded ... OK * checking whether the package can be loaded with stated dependencies ... OK * checking whether the name space can be loaded with stated dependencies ... OK * checking for unstated dependencies in R code ... OK * checking S3 generic/method consistency ... OK * checking replacement functions ... OK * checking foreign function calls ... OK * checking R code for possible problems ... OK * checking Rd files ... OK * checking Rd cross-references ... OK * checking for missing documentation entries ... OK * checking for code/documentation mismatches ... OK * checking Rd \usage sections ... OK * checking for CRLF line endings in C/C++/Fortran sources/headers ... OK * checking for portable use of $BLAS_LIBS ... OK * creating copa-Ex.R ... OK * checking examples ... OK * checking package vignettes in 'inst/doc' ... OK * creating copa-manual.tex ... OK * checking copa-manual.tex ... OK
copa.Rcheck/00install.out:
* Installing *source* package 'copa' ...
** libs
gcc -std=gnu99 -I/home/biocbuild/bbs-2.0-bioc/R/include -I/home/biocbuild/bbs-2.0-bioc/R/include -I/usr/local/include -fpic -g -O2 -Wall -c copa.c -o copa.o
gcc -std=gnu99 -shared -L/usr/local/lib64 -o copa.so copa.o -L/home/biocbuild/bbs-2.0-bioc/R/lib -lR
** R
** inst
** preparing package for lazy loading
Loading required package: Biobase
Loading required package: tools
Welcome to Bioconductor
Vignettes contain introductory material. To view, type
'openVignette()'. To cite Bioconductor, see
'citation("Biobase")' and for packages 'citation(pkgname)'.
** help
>>> Building/Updating help pages for package 'copa'
Formats: text html latex example
copa text html latex example
copa.package text html latex
copaFilter text html latex
copaPerm text html latex
copaTable text html latex example
getans text html latex
pSum text html latex
perm.mat text html latex
plotCopa text html latex example
scatterPlotCopa text html latex example
summaryCopa text html latex example
** building package indices ...
* DONE (copa)