Back to the "Multiple platform build/check report"
| Package 47/214 | Hostname | OS | Arch | BUILD | CHECK | BUILD BIN | 
| convert1.10.0Yee Hwa (Jean) YangLast Changed Date: 2007-04-24 11:21:48 -0700 Last Changed Rev: 24214 | lamb1 | Linux (SUSE 10.1) | x86_64 | [ OK ] | OK | |
| wellington | Linux (SUSE 9.2) | i686 | OK | OK | ||
| lemming | Windows Server 2003 (32-bit) | x64 | OK | OK | OK | 
| Package: convert | 
| Version: 1.10.0 | 
| Command: /home/biocbuild/bbs-2.0-bioc/R/bin/R CMD build convert | 
| RetCode: 0 | 
| Time: 2.5 seconds | 
| Status: OK | 
| PackageFile: convert_1.10.0.tar.gz | 
* checking for file 'convert/DESCRIPTION' ... OK
* preparing 'convert':
* checking DESCRIPTION meta-information ... OK
* installing the package to re-build vignettes
* Installing *source* package 'convert' ...
** R
** inst
** help
 >>> Building/Updating help pages for package 'convert'
     Formats: text html latex example 
  coerce                            text    html    latex   example
** building package indices ...
* DONE (convert)
* creating vignettes ... OK
* removing junk files
* checking for LF line-endings in source files
* checking for empty or unneeded directories
* building 'convert_1.10.0.tar.gz'