Back to the "Multiple platform build/check report"
| Package 18/214 | Hostname | OS | Arch | BUILD | CHECK | BUILD BIN |
annotationTools1.4.0Alexandre KuhnLast Changed Date: 2007-04-24 11:21:48 -0700 Last Changed Rev: 24214 | lamb1 | Linux (SUSE 10.1) | x86_64 | OK | OK | |
| wellington | Linux (SUSE 9.2) | i686 | OK | OK | ||
| lemming | Windows Server 2003 (32-bit) | x64 | [ OK ] | OK | OK |
| Package: annotationTools |
| Version: 1.4.0 |
| Command: D:\biocbld\bbs-2.0-bioc\R\bin\R.exe CMD build annotationTools |
| RetCode: 0 |
| Time: 18.5 seconds |
| Status: OK |
| PackageFile: annotationTools_1.4.0.tar.gz |
* checking for file 'annotationTools/DESCRIPTION' ... OK
* preparing 'annotationTools':
* checking DESCRIPTION meta-information ... OK
* installing the package to re-build vignettes
installing R.css in D:/biocbld/bbs-2.0-bioc/tmpdir/Rinst532454690
---------- Making package annotationTools ------------
adding build stamp to DESCRIPTION
installing R files
installing inst files
installing data files
installing man source files
installing indices
not zipping data
installing help
>>> Building/Updating help pages for package 'annotationTools'
Formats: text html latex example chm
HG-U133_Plus_2_annot_part text html latex chm
HG-U133_Plus_2_ortholog_part text html latex chm
Mouse430_2_annot_part text html latex chm
annot_HGU133A text html latex chm
compactList text html latex example chm
getANNOTATION text html latex example chm
getGENEID text html latex example chm
getGENEONTOLOGY text html latex example chm
getGENESYMBOL text html latex example chm
getGENETITLE text html latex example chm
getHOMOLOG text html latex example chm
getMULTIANNOTATION text html latex example chm
getPROBESET text html latex example chm
homologene_part text html latex chm
listToCharacterVector text html latex example chm
ortho text html latex chm
ps2ps text html latex example chm
table_human text html latex chm
table_mouse text html latex chm
Microsoft HTML Help Compiler 4.74.8702
Compiling d:\biocbld\bbs-2.0-bioc\meat\annotationTools\chm\annotationTools.chm
Compile time: 0 minutes, 0 seconds
20 Topics
45 Local links
8 Internet links
1 Graphic
Created d:\biocbld\bbs-2.0-bioc\meat\annotationTools\chm\annotationTools.chm, 35,920 bytes
Compression decreased file by 33,871 bytes.
adding MD5 sums
* DONE (annotationTools)
* creating vignettes ... OK
* removing junk files
* checking for LF line-endings in source files
* checking for empty or unneeded directories
* building 'annotationTools_1.4.0.tar.gz'