Back to the "Multiple platform build/check report"
| Package 5/214 | Hostname | OS | Arch | BUILD | CHECK | BUILD BIN |
affxparser1.8.3Kasper Daniel HansenLast Changed Date: 2007-08-18 11:50:23 -0700 Last Changed Rev: 26495 | lamb1 | Linux (SUSE 10.1) | x86_64 | [ OK ] | OK | |
| wellington | Linux (SUSE 9.2) | i686 | OK | OK | ||
| lemming | Windows Server 2003 (32-bit) | x64 | OK | OK | OK |
| Package: affxparser |
| Version: 1.8.3 |
| Command: /home/biocbuild/bbs-2.0-bioc/R/bin/R CMD build affxparser |
| RetCode: 0 |
| Time: 2.5 seconds |
| Status: OK |
| PackageFile: affxparser_1.8.3.tar.gz |
* checking for file 'affxparser/DESCRIPTION' ... OK * preparing 'affxparser': * checking DESCRIPTION meta-information ... OK * cleaning src * removing junk files * checking for LF line-endings in source files * checking for empty or unneeded directories * building 'affxparser_1.8.3.tar.gz'