Back to the "Multiple platform build/check report"
| Package 183/214 | Hostname | OS | Arch | BUILD | CHECK | BUILD BIN |
SAGElyzer1.14.0Jianhua ZhangLast Changed Date: 2007-04-24 11:21:48 -0700 Last Changed Rev: 24214 | lamb1 | Linux (SUSE 10.1) | x86_64 | OK | WARNINGS | |
| wellington | Linux (SUSE 9.2) | i686 | OK | WARNINGS | ||
| lemming | Windows Server 2003 (32-bit) | x64 | OK | ERROR | [ OK ] |
| Package: SAGElyzer |
| Version: 1.14.0 |
| Command: D:\biocbld\bbs-2.0-bioc\R\bin\R.exe CMD INSTALL --build --library=SAGElyzer.buildbin-libdir SAGElyzer_1.14.0.tar.gz |
| RetCode: 0 |
| Time: 16.3 seconds |
| Status: OK |
| PackageFile: SAGElyzer_1.14.0.zip |
installing R.css in D:/biocbld/bbs-2.0-bioc/meat/SAGElyzer.buildbin-libdir
Using auto-selected zip options ''
---------- Making package SAGElyzer ------------
adding build stamp to DESCRIPTION
installing NAMESPACE file and metadata
installing R files
installing exec files
installing inst files
installing data files
installing man source files
installing indices
not zipping data
installing help
>>> Building/Updating help pages for package 'SAGElyzer'
Formats: text html latex example chm
SAGELyzer text html latex example chm
SAGEMapper text html latex example chm
SAGEToolTips text html latex example chm
SAGEWidget text html latex example chm
con4Win text html latex example chm
getGEOSAGE text html latex example chm
getNormFactor text html latex example chm
getTargetRow text html latex example chm
mergeSAGE text html latex example chm
mergeSAGEWidget text html latex example chm
querySAGE text html latex example chm
support text html latex example chm
Microsoft HTML Help Compiler 4.74.8702
Compiling d:\biocbld\bbs-2.0-bioc\meat\R.INSTALL.5988\SAGElyzer\chm\SAGElyzer.chm
Compile time: 0 minutes, 0 seconds
13 Topics
144 Local links
5 Internet links
1 Graphic
Created d:\biocbld\bbs-2.0-bioc\meat\R.INSTALL.5988\SAGElyzer\chm\SAGElyzer.chm, 38,592 bytes
Compression decreased file by 36,790 bytes.
preparing package SAGElyzer for lazy loading
Loading required package: AnnBuilder
Loading required package: Biobase
Loading required package: tools
Welcome to Bioconductor
Vignettes contain introductory material. To view, type
'openVignette()'. To cite Bioconductor, see
'citation("Biobase")' and for packages 'citation(pkgname)'.
Loading required package: XML
Loading required package: annotate
Loading required package: tkWidgets
Loading required package: widgetTools
Loading required package: tcltk
Loading Tcl/Tk interface ... done
Loading required package: DynDoc
Loading required package: genefilter
Loading required package: survival
Loading required package: splines
adding MD5 sums
packaged installation of package 'SAGElyzer' as SAGElyzer_1.14.0.zip
* DONE (SAGElyzer)