Back to the "Multiple platform build/check report"
| Package 129/214 | Hostname | OS | Arch | BUILD | CHECK | BUILD BIN | 
| MiPP1.8.0Sukwoo KimLast Changed Date: 2007-04-24 11:21:48 -0700 Last Changed Rev: 24214 | lamb1 | Linux (SUSE 10.1) | x86_64 | OK | OK | |
| wellington | Linux (SUSE 9.2) | i686 | OK | OK | ||
| lemming | Windows Server 2003 (32-bit) | x64 | OK | [ OK ] | OK | 
| Package: MiPP | 
| Version: 1.8.0 | 
| Command: D:\biocbld\bbs-2.0-bioc\R\bin\R.exe CMD check MiPP_1.8.0.tar.gz | 
| RetCode: 0 | 
| Time: 336.5 seconds | 
| Status: OK | 
| CheckDir: MiPP.Rcheck | 
| Warnings: 0 | 
* checking for working latex ... OK * using log directory 'D:/biocbld/bbs-2.0-bioc/meat/MiPP.Rcheck' * using R version 2.5.1 (2007-06-27) * checking for file 'MiPP/DESCRIPTION' ... OK * this is package 'MiPP' version '1.8.0' * checking package dependencies ... OK * checking if this is a source package ... OK * checking whether package 'MiPP' can be installed ... OK * checking package directory ... OK * checking for portable file names ... OK * checking DESCRIPTION meta-information ... OK * checking top-level files ... OK * checking index information ... OK * checking package subdirectories ... OK * checking R files for non-ASCII characters ... OK * checking R files for syntax errors ... OK * checking whether the package can be loaded ... OK * checking whether the package can be loaded with stated dependencies ... OK * checking for unstated dependencies in R code ... OK * checking S3 generic/method consistency ... OK * checking replacement functions ... OK * checking foreign function calls ... OK * checking R code for possible problems ... OK * checking Rd files ... OK * checking Rd cross-references ... OK * checking for missing documentation entries ... OK * checking for code/documentation mismatches ... OK * checking Rd \usage sections ... OK * checking data for non-ASCII characters ... OK * creating MiPP-Ex.R ... OK * checking examples ... OK * checking package vignettes in 'inst/doc' ... OK * creating MiPP-manual.tex ... OK * checking MiPP-manual.tex ... OK
MiPP.Rcheck/00install.out:
installing R.css in D:/biocbld/bbs-2.0-bioc/meat/MiPP.Rcheck
---------- Making package MiPP ------------
  adding build stamp to DESCRIPTION
  installing R files
  installing inst files
  installing data files
  installing man source files
  installing indices
  not zipping data
  installing help
 >>> Building/Updating help pages for package 'MiPP'
     Formats: text html latex example chm 
  colon                             text    html    latex           chm
  cv.mipp.rule                      text    html    latex           chm
  get.mipp                          text    html    latex           chm
  get.mipp.lda                      text    html    latex           chm
  get.mipp.logistic                 text    html    latex           chm
  get.mipp.qda                      text    html    latex           chm
  get.mipp.svm.linear               text    html    latex           chm
  get.mipp.svm.rbf                  text    html    latex           chm
  leuk1                             text    html    latex           chm
  leuk2                             text    html    latex           chm
  leukemia                          text    html    latex           chm
  linearkernel.decision.function    text    html    latex           chm
  mipp                              text    html    latex   example chm
  mipp.preproc                      text    html    latex   example chm
  mipp.rule                         text    html    latex           chm
  mipp.seq                          text    html    latex   example chm
  pre.select                        text    html    latex           chm
  quant.normal                      text    html    latex           chm
  quant.normal2                     text    html    latex           chm
  rbfkernel.decision.function       text    html    latex           chm
Microsoft HTML Help Compiler 4.74.8702
Compiling d:\biocbld\bbs-2.0-bioc\meat\MiPP.Rcheck\00_pkg_src\MiPP\chm\MiPP.chm
Compile time: 0 minutes, 0 seconds
21	Topics
41	Local links
0	Internet links
1	Graphic
Created d:\biocbld\bbs-2.0-bioc\meat\MiPP.Rcheck\00_pkg_src\MiPP\chm\MiPP.chm, 25,287 bytes
Compression decreased file by 14,295 bytes.
  preparing package MiPP for lazy loading
Loading required package: Biobase
Loading required package: tools
Welcome to Bioconductor
  Vignettes contain introductory material. To view, type
  'openVignette()'. To cite Bioconductor, see
  'citation("Biobase")' and for packages 'citation(pkgname)'.
Loading required package: e1071
Loading required package: class
Loading required package: MASS
  adding MD5 sums
* DONE (MiPP)