Back to the "Multiple platform build/check report"
| Package 108/214 | Hostname | OS | Arch | BUILD | CHECK | BUILD BIN |
LMGene1.6.0John TillinghastLast Changed Date: 2007-04-24 11:21:48 -0700 Last Changed Rev: 24214 | lamb1 | Linux (SUSE 10.1) | x86_64 | [ OK ] | WARNINGS | |
| wellington | Linux (SUSE 9.2) | i686 | OK | WARNINGS | ||
| lemming | Windows Server 2003 (32-bit) | x64 | OK | WARNINGS | OK |
| Package: LMGene |
| Version: 1.6.0 |
| Command: /home/biocbuild/bbs-2.0-bioc/R/bin/R CMD build LMGene |
| RetCode: 0 |
| Time: 50.5 seconds |
| Status: OK |
| PackageFile: LMGene_1.6.0.tar.gz |
* checking for file 'LMGene/DESCRIPTION' ... OK
* preparing 'LMGene':
* checking DESCRIPTION meta-information ... OK
* installing the package to re-build vignettes
* Installing *source* package 'LMGene' ...
** R
** data
** inst
** help
>>> Building/Updating help pages for package 'LMGene'
Formats: text html latex example
LMGene text html latex example
genediff text html latex example
glog text html latex example
jggrad2 text html latex example
jglog text html latex example
lnorm text html latex example
mlm2lm text html latex example
msa text html latex example
msecalc text html latex example
neweS text html latex example
norm text html latex example
pvadjust text html latex example
rowaov text html latex example
rowlist text html latex example
tranest text html latex example
tranest2 text html latex example
vlist text html latex example
** building package indices ...
* DONE (LMGene)
* creating vignettes ... OK
* removing junk files
* checking for LF line-endings in source files
* checking for empty or unneeded directories
* building 'LMGene_1.6.0.tar.gz'