Back to the "Multiple platform build/check report"
| Package 85/214 | Hostname | OS | Arch | BUILD | CHECK | BUILD BIN |
GlobalAncova3.2.0R. MeisterLast Changed Date: 2007-04-24 11:21:48 -0700 Last Changed Rev: 24214 | lamb1 | Linux (SUSE 10.1) | x86_64 | OK | OK | |
| wellington | Linux (SUSE 9.2) | i686 | OK | OK | ||
| lemming | Windows Server 2003 (32-bit) | x64 | [ OK ] | OK | OK |
| Package: GlobalAncova |
| Version: 3.2.0 |
| Command: D:\biocbld\bbs-2.0-bioc\R\bin\R.exe CMD build GlobalAncova |
| RetCode: 0 |
| Time: 326.7 seconds |
| Status: OK |
| PackageFile: GlobalAncova_3.2.0.tar.gz |
* checking for file 'GlobalAncova/DESCRIPTION' ... OK
* preparing 'GlobalAncova':
* checking DESCRIPTION meta-information ... OK
* installing the package to re-build vignettes
installing R.css in D:/biocbld/bbs-2.0-bioc/tmpdir/Rinst598862707
---------- Making package GlobalAncova ------------
adding build stamp to DESCRIPTION
installing NAMESPACE file and metadata
installing R files
installing inst files
installing data files
installing man source files
installing indices
not zipping data
installing help
>>> Building/Updating help pages for package 'GlobalAncova'
Formats: text html latex example chm
GAGO text html latex example chm
GlobalAncova-methods text html latex chm
GlobalAncova text html latex example chm
GlobalAncova.closed-methods text html latex chm
GlobalAncova.closed text html latex chm
GlobalAncova.decomp text html latex example chm
Plot.all text html latex example chm
Plot.genes-methods text html latex chm
Plot.genes text html latex example chm
Plot.sequential text html latex example chm
Plot.subjects-methods text html latex chm
Plot.subjects text html latex example chm
colon.normal text html latex example chm
colon.pheno text html latex example chm
colon.tumour text html latex example chm
pair.compare text html latex example chm
pathways text html latex example chm
phenodata text html latex example chm
vantVeer text html latex example chm
Microsoft HTML Help Compiler 4.74.8702
Compiling d:\biocbld\bbs-2.0-bioc\meat\GlobalAncova\chm\GlobalAncova.chm
Compile time: 0 minutes, 0 seconds
20 Topics
85 Local links
0 Internet links
1 Graphic
Created d:\biocbld\bbs-2.0-bioc\meat\GlobalAncova\chm\GlobalAncova.chm, 46,683 bytes
Compression decreased file by 51,433 bytes.
preparing package GlobalAncova for lazy loading
Loading required package: corpcor
Loading required package: globaltest
Loading required package: multtest
Loading required package: Biobase
Loading required package: tools
Welcome to Bioconductor
Vignettes contain introductory material. To view, type
'openVignette()'. To cite Bioconductor, see
'citation("Biobase")' and for packages 'citation(pkgname)'.
Loading required package: survival
Loading required package: splines
adding MD5 sums
* DONE (GlobalAncova)
* creating vignettes ... OK
* removing junk files
* checking for LF line-endings in source files
* checking for empty or unneeded directories
* building 'GlobalAncova_3.2.0.tar.gz'