Back to the "Multiple platform build/check report"
| Package 76/214 | Hostname | OS | Arch | BUILD | CHECK | BUILD BIN |
GeneSpring2.10.0Thon de BoerLast Changed Date: 2007-04-24 11:21:48 -0700 Last Changed Rev: 24214 | lamb1 | Linux (SUSE 10.1) | x86_64 | OK | OK | |
| wellington | Linux (SUSE 9.2) | i686 | OK | OK | ||
| lemming | Windows Server 2003 (32-bit) | x64 | [ OK ] | OK | OK |
| Package: GeneSpring |
| Version: 2.10.0 |
| Command: D:\biocbld\bbs-2.0-bioc\R\bin\R.exe CMD build GeneSpring |
| RetCode: 0 |
| Time: 16.5 seconds |
| Status: OK |
| PackageFile: GeneSpring_2.10.0.tar.gz |
* checking for file 'GeneSpring/DESCRIPTION' ... OK
* preparing 'GeneSpring':
* checking DESCRIPTION meta-information ... OK
* checking whether 'INDEX' is up-to-date ... NO
* use '--force' to overwrite the existing 'INDEX'
* installing the package to re-build vignettes
installing R.css in D:/biocbld/bbs-2.0-bioc/tmpdir/Rinst320435021
---------- Making package GeneSpring ------------
adding build stamp to DESCRIPTION
installing R files
save image
Loading required package: Biobase
Loading required package: tools
Welcome to Bioconductor
Vignettes contain introductory material. To view, type
'openVignette()'. To cite Bioconductor, see
'citation("Biobase")' and for packages 'citation(pkgname)'.
[1] "GSint"
[1] "show"
installing inst files
installing man source files
installing indices
installing help
>>> Building/Updating help pages for package 'GeneSpring'
Formats: text html latex example chm
GSint text html latex example chm
GSint2BC text html latex example chm
GSload.exp text html latex example chm
GSload.genelist text html latex example chm
GSload.int text html latex example chm
GSsave.exp text html latex example chm
Microsoft HTML Help Compiler 4.74.8702
Compiling d:\biocbld\bbs-2.0-bioc\meat\GeneSpring\chm\GeneSpring.chm
Compile time: 0 minutes, 0 seconds
7 Topics
40 Local links
6 Internet links
1 Graphic
Created d:\biocbld\bbs-2.0-bioc\meat\GeneSpring\chm\GeneSpring.chm, 31,023 bytes
Compression decreased file by 10,812 bytes.
adding MD5 sums
* DONE (GeneSpring)
* creating vignettes ... OK
* removing junk files
* checking for LF line-endings in source files
* checking for empty or unneeded directories
* building 'GeneSpring_2.10.0.tar.gz'