Back to the "Multiple platform build/check report"
| Package 87/214 | Hostname | OS | Arch | BUILD | CHECK | BUILD BIN |
GOstats2.2.6S. FalconLast Changed Date: 2007-06-07 22:47:07 -0700 Last Changed Rev: 25272 | lamb1 | Linux (SUSE 10.1) | x86_64 | OK | OK | |
| wellington | Linux (SUSE 9.2) | i686 | OK | OK | ||
| lemming | Windows Server 2003 (32-bit) | x64 | OK | OK | [ OK ] |
| Package: GOstats |
| Version: 2.2.6 |
| Command: D:\biocbld\bbs-2.0-bioc\R\bin\R.exe CMD INSTALL --build --library=GOstats.buildbin-libdir GOstats_2.2.6.tar.gz |
| RetCode: 0 |
| Time: 24.6 seconds |
| Status: OK |
| PackageFile: GOstats_2.2.6.zip |
installing R.css in D:/biocbld/bbs-2.0-bioc/meat/GOstats.buildbin-libdir
Using auto-selected zip options 'GOstats-ZIPDATA=zip'
---------- Making package GOstats ------------
adding build stamp to DESCRIPTION
installing NAMESPACE file and metadata
installing R files
installing inst files
installing data files
installing man source files
installing indices
zipping data
installing help
>>> Building/Updating help pages for package 'GOstats'
Formats: text html latex example chm
GOHyperG text html latex example chm
GOHyperGResult-class text html latex chm
GOLeaves text html latex example chm
GOstats-defunct text html latex chm
GOstats-package text html latex chm
Ndists text html latex example chm
compCorrGraph text html latex example chm
compGdist text html latex example chm
hyperG2Affy text html latex example chm
hyperGTest text html latex chm
hyperGtable text html latex example chm
idx2dimnames text html latex example chm
makeGOGraph text html latex example chm
notConn text html latex example chm
oneGOGraph text html latex example chm
probeSetSummary text html latex chm
shortestPath text html latex example chm
simLL text html latex example chm
termGraphs text html latex chm
triadCensus text html latex example chm
Microsoft HTML Help Compiler 4.74.8702
Compiling d:\biocbld\bbs-2.0-bioc\meat\R.INSTALL.3776\GOstats\chm\GOstats.chm
Compile time: 0 minutes, 0 seconds
21 Topics
77 Local links
0 Internet links
1 Graphic
Created d:\biocbld\bbs-2.0-bioc\meat\R.INSTALL.3776\GOstats\chm\GOstats.chm, 49,728 bytes
Compression decreased file by 37,782 bytes.
preparing package GOstats for lazy loading
Loading required package: graph
Loading required package: GO
Loading required package: annotate
Loading required package: Biobase
Loading required package: tools
Welcome to Bioconductor
Vignettes contain introductory material. To view, type
'openVignette()'. To cite Bioconductor, see
'citation("Biobase")' and for packages 'citation(pkgname)'.
Loading required package: RBGL
Loading required package: Category
Loading required package: KEGG
Loading required package: genefilter
Loading required package: survival
Loading required package: splines
Loading required package: Matrix
Loading required package: lattice
adding MD5 sums
packaged installation of package 'GOstats' as GOstats_2.2.6.zip
* DONE (GOstats)