Back to the "Multiple platform build/check report"
| Package 84/214 | Hostname | OS | Arch | BUILD | CHECK | BUILD BIN |
GLAD1.10.0Philippe HupeLast Changed Date: 2007-04-24 11:21:48 -0700 Last Changed Rev: 24214 | lamb1 | Linux (SUSE 10.1) | x86_64 | OK | OK | |
| wellington | Linux (SUSE 9.2) | i686 | OK | OK | ||
| lemming | Windows Server 2003 (32-bit) | x64 | OK | [ OK ] | OK |
| Package: GLAD |
| Version: 1.10.0 |
| Command: D:\biocbld\bbs-2.0-bioc\R\bin\R.exe CMD check GLAD_1.10.0.tar.gz |
| RetCode: 0 |
| Time: 90.5 seconds |
| Status: OK |
| CheckDir: GLAD.Rcheck |
| Warnings: 0 |
* checking for working latex ... OK * using log directory 'D:/biocbld/bbs-2.0-bioc/meat/GLAD.Rcheck' * using R version 2.5.1 (2007-06-27) * checking for file 'GLAD/DESCRIPTION' ... OK * this is package 'GLAD' version '1.10.0' * checking package dependencies ... OK * checking if this is a source package ... OK * checking whether package 'GLAD' can be installed ... OK * checking package directory ... OK * checking for portable file names ... OK * checking DESCRIPTION meta-information ... OK * checking top-level files ... OK * checking index information ... OK * checking package subdirectories ... OK * checking R files for non-ASCII characters ... OK * checking R files for syntax errors ... OK * checking whether the package can be loaded ... OK * checking whether the package can be loaded with stated dependencies ... OK * checking for unstated dependencies in R code ... OK * checking S3 generic/method consistency ... OK * checking replacement functions ... OK * checking foreign function calls ... OK * checking R code for possible problems ... OK * checking Rd files ... OK * checking Rd cross-references ... OK * checking for missing documentation entries ... OK * checking for code/documentation mismatches ... OK * checking Rd \usage sections ... OK * checking data for non-ASCII characters ... OK * checking for CRLF line endings in C/C++/Fortran sources/headers ... OK * checking for portable use of $BLAS_LIBS ... OK * creating GLAD-Ex.R ... OK * checking examples ... OK * checking package vignettes in 'inst/doc' ... OK * creating GLAD-manual.tex ... OK * checking GLAD-manual.tex ... OK
GLAD.Rcheck/00install.out:
installing R.css in D:/biocbld/bbs-2.0-bioc/meat/GLAD.Rcheck
---------- Making package GLAD ------------
adding build stamp to DESCRIPTION
making DLL ...
making distance.d from distance.c
making glad-function.d from glad-function.c
making hclust.d from hclust.c
making laws.d from laws.c
making glad.d from glad.cpp
gcc -Id:/biocbld/bbs-2.0-bioc/R/include -Wall -O3 -std=gnu99 -c distance.c -o distance.o
gcc -Id:/biocbld/bbs-2.0-bioc/R/include -Wall -O3 -std=gnu99 -c glad-function.c -o glad-function.o
gcc -Id:/biocbld/bbs-2.0-bioc/R/include -Wall -O3 -std=gnu99 -c hclust.c -o hclust.o
gcc -Id:/biocbld/bbs-2.0-bioc/R/include -Wall -O3 -std=gnu99 -c laws.c -o laws.o
g++ -Id:/biocbld/bbs-2.0-bioc/R/include -Wall -O2 -c glad.cpp -o glad.o
glad.cpp: In function `void detectOutliers(double*, int*, int*, int*, int*, int*, double*, int*)':
glad.cpp:112: warning: comparison between signed and unsigned integer expressions
windres -I d:/biocbld/bbs-2.0-bioc/R/include -i GLAD_res.rc -o GLAD_res.o
g++ -shared -s -o GLAD.dll GLAD.def distance.o glad-function.o hclust.o laws.o glad.o GLAD_res.o -Ld:/biocbld/bbs-2.0-bioc/R/bin -lR
... DLL made
installing DLL
installing R files
installing demos
installing inst files
installing data files
installing man source files
installing indices
not zipping data
installing help
>>> Building/Updating help pages for package 'GLAD'
Formats: text html latex example chm
ChrNumeric text html latex example chm
ColorBar text html latex example chm
GLAD-internal text html latex chm
arrayCGH text html latex example chm
arrayPersp text html latex example chm
arrayPlot text html latex example chm
as.data.frame.profileCGH text html latex example chm
as.profileCGH text html latex example chm
bladder text html latex example chm
cytoband text html latex example chm
daglad text html latex example chm
glad text html latex example chm
hclust text html latex example chm
kernel text html latex chm
myPalette text html latex example chm
plotProfile text html latex example chm
profileCGH text html latex example chm
snijders text html latex example chm
tkdaglad text html latex example chm
veltman text html latex example chm
Microsoft HTML Help Compiler 4.74.8702
Compiling d:\biocbld\bbs-2.0-bioc\meat\GLAD.Rcheck\00_pkg_src\GLAD\chm\GLAD.chm
Compile time: 0 minutes, 0 seconds
21 Topics
90 Local links
14 Internet links
1 Graphic
Created d:\biocbld\bbs-2.0-bioc\meat\GLAD.Rcheck\00_pkg_src\GLAD\chm\GLAD.chm, 53,053 bytes
Compression decreased file by 55,925 bytes.
preparing package GLAD for lazy loading
Loading required package: aws
adding MD5 sums
* DONE (GLAD)