Back to the "Multiple platform build/check report"
| Package 40/214 | Hostname | OS | Arch | BUILD | CHECK | BUILD BIN |
Category2.2.3S. FalconLast Changed Date: 2007-05-11 09:48:23 -0700 Last Changed Rev: 24599 | lamb1 | Linux (SUSE 10.1) | x86_64 | OK | OK | |
| wellington | Linux (SUSE 9.2) | i686 | OK | OK | ||
| lemming | Windows Server 2003 (32-bit) | x64 | [ OK ] | OK | OK |
| Package: Category |
| Version: 2.2.3 |
| Command: D:\biocbld\bbs-2.0-bioc\R\bin\R.exe CMD build Category |
| RetCode: 0 |
| Time: 45.5 seconds |
| Status: OK |
| PackageFile: Category_2.2.3.tar.gz |
* checking for file 'Category/DESCRIPTION' ... OK
* preparing 'Category':
* checking DESCRIPTION meta-information ... OK
* installing the package to re-build vignettes
installing R.css in D:/biocbld/bbs-2.0-bioc/tmpdir/Rinst614068896
---------- Making package Category ------------
adding build stamp to DESCRIPTION
installing NAMESPACE file and metadata
installing R files
installing inst files
preparing package Category for lazy loading
Loading required package: Biobase
Loading required package: tools
Welcome to Bioconductor
Vignettes contain introductory material. To view, type
'openVignette()'. To cite Bioconductor, see
'citation("Biobase")' and for packages 'citation(pkgname)'.
Loading required package: graph
Loading required package: KEGG
Loading required package: GO
Loading required package: annotate
Loading required package: genefilter
Loading required package: survival
Loading required package: splines
Loading required package: Matrix
Loading required package: lattice
installing man source files
installing indices
installing help
>>> Building/Updating help pages for package 'Category'
Formats: text html latex example chm
ChrMapHyperGParams-class text html latex example chm
ChrMapHyperGResult-class text html latex example chm
GOHyperGParams-class text html latex chm
HyperGParams-class text html latex chm
HyperGResult-accessors text html latex chm
HyperGResult-class text html latex chm
HyperGResultBase-class text html latex chm
KEGGHyperGParams-class text html latex chm
MAPAmat text html latex example chm
applyByCategory text html latex example chm
cateGOryMatrix text html latex example chm
categoryToEntrezBuilder text html latex chm
chrBandInciMat text html latex example chm
findAMstats text html latex example chm
geneGoHyperGeoTest text html latex chm
geneKeggHyperGeoTest text html latex chm
getPathNames text html latex example chm
hyperGTest text html latex chm
makeChrBandGraph text html latex example chm
makeEBcontr text html latex example chm
makeValidParams text html latex chm
probes2MAP text html latex example chm
probes2Path text html latex example chm
ttperm text html latex example chm
universeBuilder text html latex chm
Microsoft HTML Help Compiler 4.74.8702
Compiling d:\biocbld\bbs-2.0-bioc\meat\Category\chm\Category.chm
Compile time: 0 minutes, 0 seconds
26 Topics
192 Local links
0 Internet links
1 Graphic
Created d:\biocbld\bbs-2.0-bioc\meat\Category\chm\Category.chm, 50,695 bytes
Compression decreased file by 74,182 bytes.
adding MD5 sums
* DONE (Category)
* creating vignettes ... OK
* removing junk files
* checking for LF line-endings in source files
* checking for empty or unneeded directories
* building 'Category_2.2.3.tar.gz'