Back to the "Multiple platform build/check report"
| Package 36/214 | Hostname | OS | Arch | BUILD | CHECK | BUILD BIN |
BSgenome1.4.1H. PagesLast Changed Date: 2007-07-24 02:37:42 -0700 Last Changed Rev: 25952 | lamb1 | Linux (SUSE 10.1) | x86_64 | OK | OK | |
| wellington | Linux (SUSE 9.2) | i686 | OK | OK | ||
| lemming | Windows Server 2003 (32-bit) | x64 | OK | OK | [ OK ] |
| Package: BSgenome |
| Version: 1.4.1 |
| Command: D:\biocbld\bbs-2.0-bioc\R\bin\R.exe CMD INSTALL --build --library=BSgenome.buildbin-libdir BSgenome_1.4.1.tar.gz |
| RetCode: 0 |
| Time: 11.3 seconds |
| Status: OK |
| PackageFile: BSgenome_1.4.1.zip |
installing R.css in D:/biocbld/bbs-2.0-bioc/meat/BSgenome.buildbin-libdir
Using auto-selected zip options ''
---------- Making package BSgenome ------------
adding build stamp to DESCRIPTION
installing NAMESPACE file and metadata
installing R files
save image
Loading required package: Biobase
Loading required package: tools
Welcome to Bioconductor
Vignettes contain introductory material. To view, type
'openVignette()'. To cite Bioconductor, see
'citation("Biobase")' and for packages 'citation(pkgname)'.
Loading required package: Biostrings
installing man source files
installing indices
installing help
>>> Building/Updating help pages for package 'BSgenome'
Formats: text html latex example chm
BSgenome-class text html latex example chm
available.genomes text html latex example chm
buildDataFiles text html latex example chm
getSeq text html latex example chm
Microsoft HTML Help Compiler 4.74.8702
Compiling d:\biocbld\bbs-2.0-bioc\meat\R.INSTALL.1900\BSgenome\chm\BSgenome.chm
Compile time: 0 minutes, 0 seconds
5 Topics
32 Local links
0 Internet links
1 Graphic
Created d:\biocbld\bbs-2.0-bioc\meat\R.INSTALL.1900\BSgenome\chm\BSgenome.chm, 23,533 bytes
Compression decreased file by 3,339 bytes.
adding MD5 sums
packaged installation of package 'BSgenome' as BSgenome_1.4.1.zip
* DONE (BSgenome)