Back to the "Multiple platform build/check report"
| Package 211/214 | Hostname | OS | Arch | BUILD | CHECK | BUILD BIN |
webbioc1.8.0Colin A. SmithLast Changed Date: 2007-04-24 11:21:48 -0700 Last Changed Rev: 24214 | lamb1 | Linux (SUSE 10.1) | x86_64 | OK | OK | |
| wellington | Linux (SUSE 9.2) | i686 | OK | OK | ||
| churchill | Solaris 2.9 | sparc | [ OK ] | OK | ||
| lemming | Windows Server 2003 (32-bit) | x64 | OK | OK | OK | |
| liverpool | Windows Server 2003 R2 (32-bit) | x64 | OK | OK | OK | |
| derby | Mac OS X (10.4.9) | i686 | OK | OK |
| Package: webbioc |
| Version: 1.8.0 |
| Command: /loc/biocbuild/bbs-2.0-bioc/R/bin/R CMD build webbioc |
| RetCode: 0 |
| Time: 21.6 seconds |
| Status: OK |
| PackageFile: webbioc_1.8.0.tar.gz |
* checking for file 'webbioc/DESCRIPTION' ... OK
* preparing 'webbioc':
* checking DESCRIPTION meta-information ... OK
* installing the package to re-build vignettes
* Installing *source* package 'webbioc' ...
** R
** inst
** save image
Loading required package: Biobase
Loading required package: tools
Welcome to Bioconductor
Vignettes contain introductory material. To view, type
'openVignette()'. To cite Bioconductor, see
'citation("Biobase")' and for packages 'citation(pkgname)'.
Loading required package: affy
Loading required package: affyio
Loading required package: multtest
Loading required package: survival
Loading required package: splines
Loading required package: annaffy
Loading required package: GO
Loading required package: KEGG
Loading required package: vsn
Loading required package: limma
Loading required package: gcrma
Loading required package: matchprobes
Loading required package: qvalue
** help
>>> Building/Updating help pages for package 'webbioc'
Formats: text html latex example
installReps text html latex
mt.wrapper text html latex
** building package indices ...
* DONE (webbioc)
* creating vignettes ... OK
* removing junk files
* checking for LF line-endings in source files
* checking for empty or unneeded directories
* building 'webbioc_1.8.0.tar.gz'