Back to the "Multiple platform build/check report"
| Package 210/214 | Hostname | OS | Arch | BUILD | CHECK | BUILD BIN |
weaver1.2.0Seth FalconLast Changed Date: 2007-04-24 11:21:48 -0700 Last Changed Rev: 24214 | lamb1 | Linux (SUSE 10.1) | x86_64 | OK | OK | |
| wellington | Linux (SUSE 9.2) | i686 | OK | OK | ||
| churchill | Solaris 2.9 | sparc | OK | OK | ||
| lemming | Windows Server 2003 (32-bit) | x64 | OK | OK | OK | |
| liverpool | Windows Server 2003 R2 (32-bit) | x64 | OK | OK | OK | |
| derby | Mac OS X (10.4.9) | i686 | [ OK ] | OK |
| Package: weaver |
| Version: 1.2.0 |
| Command: /Library/Frameworks/R.framework/Resources/bin/R CMD build weaver |
| RetCode: 0 |
| Time: 17.0 seconds |
| Status: OK |
| PackageFile: weaver_1.2.0.tar.gz |
* checking for file 'weaver/DESCRIPTION' ... OK
* preparing 'weaver':
* checking DESCRIPTION meta-information ... OK
* installing the package to re-build vignettes
* Installing *source* package 'weaver' ...
** R
** inst
** preparing package for lazy loading
Loading required package: digest
Loading required package: tools
Loading required package: codetools
** help
>>> Building/Updating help pages for package 'weaver'
Formats: text html latex example
internal text html latex
weaver text html latex example
** building package indices ...
* DONE (weaver)
* creating vignettes ... OK
* removing junk files
* checking for LF line-endings in source files
* checking for empty or unneeded directories
* building 'weaver_1.2.0.tar.gz'