Back to the "Multiple platform build/check report"
| Package 168/214 | Hostname | OS | Arch | BUILD | CHECK | BUILD BIN | 
| reb1.10.0Karl J. DykemaLast Changed Date: 2007-04-24 11:21:48 -0700 Last Changed Rev: 24214 | lamb1 | Linux (SUSE 10.1) | x86_64 | OK | WARNINGS | |
| wellington | Linux (SUSE 9.2) | i686 | OK | WARNINGS | ||
| churchill | Solaris 2.9 | sparc | OK | WARNINGS | ||
| lemming | Windows Server 2003 (32-bit) | x64 | OK | WARNINGS | OK | |
| liverpool | Windows Server 2003 R2 (32-bit) | x64 | OK | WARNINGS | OK | |
| derby | Mac OS X (10.4.9) | i686 | [ OK ] | WARNINGS | 
| Package: reb | 
| Version: 1.10.0 | 
| Command: /Library/Frameworks/R.framework/Resources/bin/R CMD build reb | 
| RetCode: 0 | 
| Time: 31.5 seconds | 
| Status: OK | 
| PackageFile: reb_1.10.0.tar.gz | 
* checking for file 'reb/DESCRIPTION' ... OK
* preparing 'reb':
* checking DESCRIPTION meta-information ... OK
* cleaning src
* installing the package to re-build vignettes
* Installing *source* package 'reb' ...
** libs
** arch - i386
gcc-4.0 -arch i386 -isysroot /Developer/SDKs/MacOSX10.4u.sdk -no-cpp-precomp -I/Library/Frameworks/R.framework/Resources/include -I/Library/Frameworks/R.framework/Resources/include/i386  -msse3  -D__NO_MATH_INLINES  -fPIC  -g -O2 -std=gnu99 -march=nocona -c movbin.c -o movbin.o
movbin.c: In function 'bscore':
movbin.c:48: warning: implicit declaration of function 'sqrt'
movbin.c:48: warning: incompatible implicit declaration of built-in function 'sqrt'
gcc-4.0 -arch i386 -isysroot /Developer/SDKs/MacOSX10.4u.sdk -dynamiclib -Wl,-macosx_version_min -Wl,10.3 -undefined dynamic_lookup -single_module -multiply_defined suppress -L/usr/local/lib -o reb.so movbin.o   -F/Library/Frameworks/R.framework/.. -framework R
** arch - ppc
gcc-4.0 -arch ppc -isysroot /Developer/SDKs/MacOSX10.4u.sdk -std=gnu99 -no-cpp-precomp -I/Library/Frameworks/R.framework/Resources/include -I/Library/Frameworks/R.framework/Resources/include/ppc  -I/usr/local/include    -fPIC  -g -O2 -c movbin.c -o movbin.o
movbin.c: In function 'bscore':
movbin.c:48: warning: implicit declaration of function 'sqrt'
movbin.c:48: warning: incompatible implicit declaration of built-in function 'sqrt'
gcc-4.0 -arch ppc -isysroot /Developer/SDKs/MacOSX10.4u.sdk -std=gnu99 -dynamiclib -Wl,-macosx_version_min -Wl,10.3 -undefined dynamic_lookup -single_module -multiply_defined suppress -L/usr/local/lib -o reb.so movbin.o   -F/Library/Frameworks/R.framework/.. -framework R
** R
** data
** inst
** help
 >>> Building/Updating help pages for package 'reb'
     Formats: text html latex example 
  Hs.arms                           text    html    latex
  absMax                            text    html    latex   example
  buildChromCytoband                text    html    latex   example
  buildChromMap                     text    html    latex   example
  cset2band                         text    html    latex   example
  fromRevIsh                        text    html    latex   example
  isAbnormal                        text    html    latex   example
  mcr.eset                          text    html    latex   example
  movbin                            text    html    latex   example
  movt                              text    html    latex   example
  naMean                            text    html    latex   example
  regmap                            text    html    latex   example
  revish                            text    html    latex   example
  rmAmbigMappings                   text    html    latex   example
  smoothByRegion                    text    html    latex   example
  summarizeByRegion                 text    html    latex   example
  t.binom.test                      text    html    latex   example
  writeGFF3                         text    html    latex   example
** building package indices ...
* DONE (reb)
* creating vignettes ... OK
* cleaning src
* removing junk files
* checking for LF line-endings in source files
* checking for empty or unneeded directories
* building 'reb_1.10.0.tar.gz'