Back to the "Multiple platform build/check report"
| Package 154/214 | Hostname | OS | Arch | BUILD | CHECK | BUILD BIN |
plier1.6.0Crispin MillerLast Changed Date: 2007-04-25 02:50:15 -0700 Last Changed Rev: 24249 | lamb1 | Linux (SUSE 10.1) | x86_64 | OK | OK | |
| wellington | Linux (SUSE 9.2) | i686 | OK | OK | ||
| churchill | Solaris 2.9 | sparc | OK | OK | ||
| lemming | Windows Server 2003 (32-bit) | x64 | OK | OK | [ OK ] | |
| liverpool | Windows Server 2003 R2 (32-bit) | x64 | OK | OK | OK | |
| derby | Mac OS X (10.4.9) | i686 | OK | ERROR |
| Package: plier |
| Version: 1.6.0 |
| Command: D:\biocbld\bbs-2.0-bioc\R\bin\R.exe CMD INSTALL --build --library=plier.BUILDBINinstdir plier_1.6.0.tar.gz |
| RetCode: 0 |
| Time: 9.0 seconds |
| Status: OK |
| PackageFile: plier_1.6.0.zip |
installing R.css in D:/biocbld/bbs-2.0-bioc/meat/plier.BUILDBINinstdir
Using auto-selected zip options ''
---------- Making package plier ------------
adding build stamp to DESCRIPTION
making DLL ...
making affyplier.d from affyplier.cpp
making plier_impl.d from plier_impl.cpp
making plieralg.d from plieralg.cpp
making rwrapper.d from rwrapper.cpp
g++ -ID:/biocbld/bbs-2.0-bioc/R/include -Wall -O2 -c affyplier.cpp -o affyplier.o
g++ -ID:/biocbld/bbs-2.0-bioc/R/include -Wall -O2 -c plier_impl.cpp -o plier_impl.o
g++ -ID:/biocbld/bbs-2.0-bioc/R/include -Wall -O2 -c plieralg.cpp -o plieralg.o
plieralg.cpp: In function `long int NewtonPlier(plier_data*, double&)':
plieralg.cpp:909: warning: 'LogLikelihood' might be used uninitialized in this function
plieralg.cpp: At global scope:
plieralg.cpp:48: warning: 'g_ErrorCode' defined but not used
g++ -ID:/biocbld/bbs-2.0-bioc/R/include -Wall -O2 -c rwrapper.cpp -o rwrapper.o
rwrapper.cpp: In function `void one_probeset(bool*, double*, double*, double*, double*, double*, double*, double*, double*, int*, double*, int*, bool*, bool*, bool*, double*, double*, int*, int*, int*, long int*, double*, double*, double*, double*, int*)':
rwrapper.cpp:159: warning: 'rpct' might be used uninitialized in this function
windres -I D:/biocbld/bbs-2.0-bioc/R/include -i plier_res.rc -o plier_res.o
g++ -shared -s -o plier.dll plier.def affyplier.o plier_impl.o plieralg.o rwrapper.o plier_res.o -LD:/biocbld/bbs-2.0-bioc/R/bin -lR
... DLL made
installing DLL
installing R files
installing man source files
installing indices
installing help
>>> Building/Updating help pages for package 'plier'
Formats: text html latex example chm
justPlier text html latex example chm
Microsoft HTML Help Compiler 4.74.8702
Compiling d:\biocbld\bbs-2.0-bioc\meat\R.INSTALL.5940\plier\chm\plier.chm
Compile time: 0 minutes, 0 seconds
2 Topics
2 Local links
0 Internet links
1 Graphic
Created d:\biocbld\bbs-2.0-bioc\meat\R.INSTALL.5940\plier\chm\plier.chm, 16,938 bytes
Compression increased file by 7,914 bytes.
adding MD5 sums
packaged installation of package 'plier' as plier_1.6.0.zip
* DONE (plier)