Back to the "Multiple platform build/check report"
| Package 152/214 | Hostname | OS | Arch | BUILD | CHECK | BUILD BIN | 
| pkgDepTools1.2.0Seth FalconLast Changed Date: 2007-04-24 11:21:48 -0700 Last Changed Rev: 24214 | lamb1 | Linux (SUSE 10.1) | x86_64 | OK | OK | |
| wellington | Linux (SUSE 9.2) | i686 | OK | OK | ||
| churchill | Solaris 2.9 | sparc | OK | OK | ||
| lemming | Windows Server 2003 (32-bit) | x64 | OK | OK | OK | |
| liverpool | Windows Server 2003 R2 (32-bit) | x64 | [ OK ] | OK | OK | |
| derby | Mac OS X (10.4.9) | i686 | ERROR | skipped | 
| Package: pkgDepTools | 
| Version: 1.2.0 | 
| Command: E:\biocbld\bbs-2.0-bioc\R\bin\R.exe CMD build pkgDepTools | 
| RetCode: 0 | 
| Time: 63.5 seconds | 
| Status: OK | 
| PackageFile: pkgDepTools_1.2.0.tar.gz | 
* checking for file 'pkgDepTools/DESCRIPTION' ... OK
* preparing 'pkgDepTools':
* checking DESCRIPTION meta-information ... OK
* installing the package to re-build vignettes
installing R.css in E:/biocbld/bbs-2.0-bioc/tmpdir/Rinst417693225
---------- Making package pkgDepTools ------------
  adding build stamp to DESCRIPTION
  installing NAMESPACE file and metadata
  installing R files
  installing inst files
  installing man source files
  installing indices
  installing help
 >>> Building/Updating help pages for package 'pkgDepTools'
     Formats: text html latex example chm 
  basicInstallOrder                 text    html    latex           chm
  cleanPkgField                     text    html    latex           chm
  getDownloadSize                   text    html    latex           chm
  getInstallOrder                   text    html    latex           chm
  makeDepGraph                      text    html    latex   example chm
  makePkgUrl                        text    html    latex           chm
  parseContentLength                text    html    latex           chm
  pkgDepTools-package               text    html    latex           chm
Microsoft HTML Help Compiler 4.74.8702
Compiling e:\biocbld\bbs-2.0-bioc\meat\pkgDepTools\chm\pkgDepTools.chm
Compile time: 0 minutes, 0 seconds
9	Topics
17	Local links
0	Internet links
1	Graphic
Created e:\biocbld\bbs-2.0-bioc\meat\pkgDepTools\chm\pkgDepTools.chm, 21,932 bytes
Compression decreased file by 600 bytes.
  preparing package pkgDepTools for lazy loading
Loading required package: graph
Loading required package: Biobase
Loading required package: tools
Welcome to Bioconductor
  Vignettes contain introductory material. To view, type
  'openVignette()'. To cite Bioconductor, see
  'citation("Biobase")' and for packages 'citation(pkgname)'.
Loading required package: RBGL
  adding MD5 sums
* DONE (pkgDepTools)
* creating vignettes ... OK
* removing junk files
* checking for LF line-endings in source files
* checking for empty or unneeded directories
* building 'pkgDepTools_1.2.0.tar.gz'