Back to the "Multiple platform build/check report"
| Package 142/214 | Hostname | OS | Arch | BUILD | CHECK | BUILD BIN |
pamr1.34.0Rob TibshiraniLast Changed Date: 2007-04-24 11:21:48 -0700 Last Changed Rev: 24214 | lamb1 | Linux (SUSE 10.1) | x86_64 | [ OK ] | OK | |
| wellington | Linux (SUSE 9.2) | i686 | OK | OK | ||
| churchill | Solaris 2.9 | sparc | OK | OK | ||
| lemming | Windows Server 2003 (32-bit) | x64 | OK | OK | OK | |
| liverpool | Windows Server 2003 R2 (32-bit) | x64 | OK | OK | OK | |
| derby | Mac OS X (10.4.9) | i686 | OK | OK |
| Package: pamr |
| Version: 1.34.0 |
| Command: /home/biocbuild/bbs-2.0-bioc/R/bin/R CMD build pamr |
| RetCode: 0 |
| Time: 0.5 seconds |
| Status: OK |
| PackageFile: pamr_1.34.0.tar.gz |
* checking for file 'pamr/DESCRIPTION' ... OK * preparing 'pamr': * checking DESCRIPTION meta-information ... OK * cleaning src * removing junk files * excluding invalid files from 'pamr' Subdirectory 'man' contains invalid file names: internal.names * checking for LF line-endings in source files * checking for empty or unneeded directories * building 'pamr_1.34.0.tar.gz'