Back to the "Multiple platform build/check report"
| Package 117/214 | Hostname | OS | Arch | BUILD | CHECK | BUILD BIN | 
| makecdfenv1.14.0James W. MacDonaldLast Changed Date: 2007-04-24 11:21:48 -0700 Last Changed Rev: 24214 | lamb1 | Linux (SUSE 10.1) | x86_64 | OK | OK | |
| wellington | Linux (SUSE 9.2) | i686 | OK | OK | ||
| churchill | Solaris 2.9 | sparc | OK | OK | ||
| lemming | Windows Server 2003 (32-bit) | x64 | OK | OK | OK | |
| liverpool | Windows Server 2003 R2 (32-bit) | x64 | OK | OK | [ OK ] | |
| derby | Mac OS X (10.4.9) | i686 | OK | OK | 
| Package: makecdfenv | 
| Version: 1.14.0 | 
| Command: E:\biocbld\bbs-2.0-bioc\R\bin\R.exe CMD INSTALL --build --library=makecdfenv.BUILDBINinstdir makecdfenv_1.14.0.tar.gz | 
| RetCode: 0 | 
| Time: 20.0 seconds | 
| Status: OK | 
| PackageFile: makecdfenv_1.14.0.zip | 
installing R.css in E:/biocbld/bbs-2.0-bioc/meat/makecdfenv.BUILDBINinstdir
Using auto-selected zip options ''
---------- Making package makecdfenv ------------
   **********************************************
   WARNING: this package has a configure script
         It probably needs manual configuration
   **********************************************
  adding build stamp to DESCRIPTION
  installing NAMESPACE file and metadata
  making DLL ...
making read_cdffile.d from read_cdffile.c
gcc  -IE:/biocbld/bbs-2.0-bioc/R/src/extra/zlib -DHAVE_ZLIB -IE:/biocbld/bbs-2.0-bioc/R/include  -Wall -O3 -std=gnu99   -c read_cdffile.c -o read_cdffile.o
read_cdffile.c: In function `readQC':
read_cdffile.c:565: warning: unused variable `param_unit'
windres -I E:/biocbld/bbs-2.0-bioc/R/include  -i makecdfenv_res.rc -o makecdfenv_res.o
gcc  -shared -s  -o makecdfenv.dll makecdfenv.def read_cdffile.o makecdfenv_res.o  -LE:/biocbld/bbs-2.0-bioc/R/bin -LE:/biocbld/bbs-2.0-bioc/R/src/extra/zlib -lz   -lR
  ... DLL made
  installing DLL
  installing R files
  save image
Loading required package: Biobase
Loading required package: tools
Welcome to Bioconductor
  Vignettes contain introductory material. To view, type
  'openVignette()'. To cite Bioconductor, see
  'citation("Biobase")' and for packages 'citation(pkgname)'.
Loading required package: affy
Loading required package: affyio
  installing inst files
  installing man source files
  installing indices
  installing help
 >>> Building/Updating help pages for package 'makecdfenv'
     Formats: text html latex example chm 
  Cdf-class                         text    html    latex           chm
  getInfoInAffyFile                 text    html    latex           chm
  make.cdf.env                      text    html    latex   example chm
  make.cdf.package                  text    html    latex   example chm
  pmormm                            text    html    latex           chm
  read.cdffile                      text    html    latex   example chm
Microsoft HTML Help Compiler 4.74.8702
Compiling e:\biocbld\bbs-2.0-bioc\meat\R.INSTALL.4092\makecdfenv\chm\makecdfenv.chm
Compile time: 0 minutes, 0 seconds
7	Topics
42	Local links
0	Internet links
1	Graphic
Created e:\biocbld\bbs-2.0-bioc\meat\R.INSTALL.4092\makecdfenv\chm\makecdfenv.chm, 26,783 bytes
Compression decreased file by 7,276 bytes.
  adding MD5 sums
packaged installation of package 'makecdfenv' as makecdfenv_1.14.0.zip
* DONE (makecdfenv)