Back to the "Multiple platform build/check report"
| Package 113/214 | Hostname | OS | Arch | BUILD | CHECK | BUILD BIN | 
| macat1.10.0Joern ToedlingLast Changed Date: 2007-04-24 11:21:48 -0700 Last Changed Rev: 24214 | lamb1 | Linux (SUSE 10.1) | x86_64 | OK | OK | |
| wellington | Linux (SUSE 9.2) | i686 | OK | OK | ||
| churchill | Solaris 2.9 | sparc | OK | OK | ||
| lemming | Windows Server 2003 (32-bit) | x64 | OK | OK | OK | |
| liverpool | Windows Server 2003 R2 (32-bit) | x64 | OK | OK | [ OK ] | |
| derby | Mac OS X (10.4.9) | i686 | OK | OK | 
| Package: macat | 
| Version: 1.10.0 | 
| Command: E:\biocbld\bbs-2.0-bioc\R\bin\R.exe CMD INSTALL --build --library=macat.BUILDBINinstdir macat_1.10.0.tar.gz | 
| RetCode: 0 | 
| Time: 19.0 seconds | 
| Status: OK | 
| PackageFile: macat_1.10.0.zip | 
installing R.css in E:/biocbld/bbs-2.0-bioc/meat/macat.BUILDBINinstdir
Using auto-selected zip options 'macat-ZIPDATA=zip macat-HELP=ziponly'
---------- Making package macat ------------
  adding build stamp to DESCRIPTION
  installing R files
  installing demos
  installing inst files
  installing data files
  installing man source files
  installing indices
  zipping data
  installing help
 >>> Building/Updating help pages for package 'macat'
     Formats: text html latex example chm 
  buildMACAT                        text    html    latex   example chm
  compute.sliding                   text    html    latex   example chm
  discreteKernelize                 text    html    latex   example chm
  discretize                        text    html    latex           chm
  discretize.tscores                text    html    latex   example chm
  discretizeAll                     text    html    latex   example chm
  evalScoring                       text    html    latex   example chm
  evaluateParameters                text    html    latex   example chm
  get.results                       text    html    latex   example chm
  html                              text    html    latex           chm
  kernelize                         text    html    latex   example chm
  kernelizeAll                      text    html    latex   example chm
  kernelizeToPython                 text    html    latex   example chm
  kernels                           text    html    latex   example chm
  loaddatapkg                       text    html    latex   example chm
  macat-internal                    text    html    latex           chm
  plot.MACATevalScoring             text    html    latex   example chm
  preprocessedLoader                text    html    latex   example chm
  pythondata                        text    html    latex   example chm
  scoring                           text    html    latex   example chm
  stjd                              text    html    latex   example chm
  zipping help files
Microsoft HTML Help Compiler 4.74.8702
Compiling e:\biocbld\bbs-2.0-bioc\meat\R.INSTALL.3168\macat\chm\macat.chm
Compile time: 0 minutes, 0 seconds
22	Topics
85	Local links
0	Internet links
1	Graphic
Created e:\biocbld\bbs-2.0-bioc\meat\R.INSTALL.3168\macat\chm\macat.chm, 45,092 bytes
Compression decreased file by 37,832 bytes.
  preparing package macat for lazy loading
Loading required package: Biobase
Loading required package: tools
Welcome to Bioconductor
  Vignettes contain introductory material. To view, type
  'openVignette()'. To cite Bioconductor, see
  'citation("Biobase")' and for packages 'citation(pkgname)'.
Loading required package: annotate
  adding MD5 sums
packaged installation of package 'macat' as macat_1.10.0.zip
* DONE (macat)