Back to the "Multiple platform build/check report"
| Package 102/214 | Hostname | OS | Arch | BUILD | CHECK | BUILD BIN |
iSPlot1.10.0Elizabeth WhalenLast Changed Date: 2007-04-24 11:21:48 -0700 Last Changed Rev: 24214 | lamb1 | Linux (SUSE 10.1) | x86_64 | OK | OK | |
| wellington | Linux (SUSE 9.2) | i686 | OK | OK | ||
| churchill | Solaris 2.9 | sparc | OK | OK | ||
| lemming | Windows Server 2003 (32-bit) | x64 | N O T S U P P O R T E D | |||
| liverpool | Windows Server 2003 R2 (32-bit) | x64 | N O T S U P P O R T E D | |||
| derby | Mac OS X (10.4.9) | i686 | [ ERROR ] | skipped | ||
| Package: iSPlot |
| Version: 1.10.0 |
| Command: /Library/Frameworks/R.framework/Resources/bin/R CMD build iSPlot |
| RetCode: 1 |
| Time: 3.5 seconds |
| Status: ERROR |
| PackageFile: None |
* checking for file 'iSPlot/DESCRIPTION' ... OK
* preparing 'iSPlot':
* checking DESCRIPTION meta-information ... OK
* installing the package to re-build vignettes
* Installing *source* package 'iSPlot' ...
** R
** inst
** save image
Loading required package: RGtk
GLib-ERROR **: could not allocate -1 bytes
aborting...
/Library/Frameworks/R.framework/Resources/bin/INSTALL: line 1: 19166 Done ( echo "options(save.image.defaults=${save_image_defaults})"; echo "invisible(.libPaths(c(\"${lib}\", .libPaths()))); .getRequiredPackages()"; ${code_cmd} )
19167 Abort trap | R_DEFAULT_PACKAGES= LC_ALL=C "${R_EXE}" ${R_save_args} ${save_args}
ERROR: execution of package source for 'iSPlot' failed
** Removing '/private/tmp/Rinst1908530151/iSPlot'
ERROR
Installation failed.
Removing '/tmp/Rinst1908530151'