Back to the "Multiple platform build/check report"
| Package 62/214 | Hostname | OS | Arch | BUILD | CHECK | BUILD BIN |
exonmap1.0.0Michal OkoniewskiLast Changed Date: 2007-04-24 11:21:48 -0700 Last Changed Rev: 24214 | lamb1 | Linux (SUSE 10.1) | x86_64 | OK | OK | |
| wellington | Linux (SUSE 9.2) | i686 | OK | OK | ||
| churchill | Solaris 2.9 | sparc | OK | ERROR | ||
| lemming | Windows Server 2003 (32-bit) | x64 | OK | ERROR | ERROR | |
| liverpool | Windows Server 2003 R2 (32-bit) | x64 | [ OK ] | ERROR | ERROR | |
| derby | Mac OS X (10.4.9) | i686 | OK | ERROR |
| Package: exonmap |
| Version: 1.0.0 |
| Command: E:\biocbld\bbs-2.0-bioc\R\bin\R.exe CMD build exonmap |
| RetCode: 0 |
| Time: 1.7 seconds |
| Status: OK |
| PackageFile: exonmap_1.0.0.tar.gz |
* checking for file 'exonmap/DESCRIPTION' ... OK * preparing 'exonmap': * checking DESCRIPTION meta-information ... OK * removing junk files * checking for LF line-endings in source files * checking for empty or unneeded directories * building 'exonmap_1.0.0.tar.gz'