Back to the "Multiple platform build/check report"
| Package 44/214 | Hostname | OS | Arch | BUILD | CHECK | BUILD BIN |
clusterStab1.8.0James W. MacDonaldLast Changed Date: 2007-04-24 11:21:48 -0700 Last Changed Rev: 24214 | lamb1 | Linux (SUSE 10.1) | x86_64 | OK | OK | |
| wellington | Linux (SUSE 9.2) | i686 | OK | OK | ||
| churchill | Solaris 2.9 | sparc | OK | OK | ||
| lemming | Windows Server 2003 (32-bit) | x64 | OK | OK | OK | |
| liverpool | Windows Server 2003 R2 (32-bit) | x64 | OK | OK | [ OK ] | |
| derby | Mac OS X (10.4.9) | i686 | OK | OK |
| Package: clusterStab |
| Version: 1.8.0 |
| Command: E:\biocbld\bbs-2.0-bioc\R\bin\R.exe CMD INSTALL --build --library=clusterStab.BUILDBINinstdir clusterStab_1.8.0.tar.gz |
| RetCode: 0 |
| Time: 17.0 seconds |
| Status: OK |
| PackageFile: clusterStab_1.8.0.zip |
installing R.css in E:/biocbld/bbs-2.0-bioc/meat/clusterStab.BUILDBINinstdir
Using auto-selected zip options ''
---------- Making package clusterStab ------------
adding build stamp to DESCRIPTION
installing R files
save image
Loading required package: Biobase
Loading required package: tools
Welcome to Bioconductor
Vignettes contain introductory material. To view, type
'openVignette()'. To cite Bioconductor, see
'citation("Biobase")' and for packages 'citation(pkgname)'.
[1] "benhur"
[1] "clusterComp"
[1] "benhur"
[1] "clusterComp"
[1] "show"
[1] "hist"
[1] "ecdf"
[1] "benhur"
[1] "benhur"
[1] "benhur"
[1] "show"
[1] "hist"
[1] "ecdf"
[1] "clusterComp"
[1] "clusterComp"
[1] "clusterComp"
[1] "show"
installing inst files
installing man source files
installing indices
installing help
>>> Building/Updating help pages for package 'clusterStab'
Formats: text html latex example chm
benhur-class text html latex chm
benhur text html latex example chm
clusterComp-class text html latex chm
clusterComp text html latex example chm
Microsoft HTML Help Compiler 4.74.8702
Compiling e:\biocbld\bbs-2.0-bioc\meat\R.INSTALL.5152\clusterStab\chm\clusterStab.chm
Compile time: 0 minutes, 0 seconds
5 Topics
22 Local links
0 Internet links
1 Graphic
Created e:\biocbld\bbs-2.0-bioc\meat\R.INSTALL.5152\clusterStab\chm\clusterStab.chm, 23,032 bytes
Compression decreased file by 1,748 bytes.
preparing package clusterStab for lazy loading
Loading required package: Biobase
Loading required package: tools
Welcome to Bioconductor
Vignettes contain introductory material. To view, type
'openVignette()'. To cite Bioconductor, see
'citation("Biobase")' and for packages 'citation(pkgname)'.
adding MD5 sums
packaged installation of package 'clusterStab' as clusterStab_1.8.0.zip
* DONE (clusterStab)