Back to the "Multiple platform build/check report"
| Package 32/214 | Hostname | OS | Arch | BUILD | CHECK | BUILD BIN |
biomaRt1.10.0Steffen DurinckLast Changed Date: 2007-04-24 11:21:48 -0700 Last Changed Rev: 24214 | lamb1 | Linux (SUSE 10.1) | x86_64 | OK | WARNINGS | |
| wellington | Linux (SUSE 9.2) | i686 | OK | WARNINGS | ||
| churchill | Solaris 2.9 | sparc | ERROR | skipped | ||
| lemming | Windows Server 2003 (32-bit) | x64 | OK | WARNINGS | OK | |
| liverpool | Windows Server 2003 R2 (32-bit) | x64 | [ OK ] | WARNINGS | OK | |
| derby | Mac OS X (10.4.9) | i686 | OK | WARNINGS |
| Package: biomaRt |
| Version: 1.10.0 |
| Command: E:\biocbld\bbs-2.0-bioc\R\bin\R.exe CMD build biomaRt |
| RetCode: 0 |
| Time: 109.4 seconds |
| Status: OK |
| PackageFile: biomaRt_1.10.0.tar.gz |
* checking for file 'biomaRt/DESCRIPTION' ... OK
* preparing 'biomaRt':
* checking DESCRIPTION meta-information ... OK
* installing the package to re-build vignettes
installing R.css in E:/biocbld/bbs-2.0-bioc/tmpdir/Rinst458459536
---------- Making package biomaRt ------------
adding build stamp to DESCRIPTION
installing NAMESPACE file and metadata
installing R files
save image
Loading required package: XML
Loading required package: RCurl
installing inst files
installing man source files
installing indices
installing help
>>> Building/Updating help pages for package 'biomaRt'
Formats: text html latex example chm
Mart-class text html latex chm
attributeSummary text html latex example chm
exportFASTA text html latex example chm
filterSummary text html latex example chm
getAffyArrays text html latex example chm
getBM text html latex example chm
getFeature text html latex example chm
getGO text html latex example chm
getGene text html latex example chm
getHomolog text html latex example chm
getLDS text html latex example chm
getSNP text html latex example chm
getSequence text html latex example chm
listAttributes text html latex example chm
listDatasets text html latex example chm
listFilters text html latex example chm
listMarts text html latex example chm
martDisconnect text html latex example chm
martTable-class text html latex chm
parseAttributes text html latex chm
parseFilters text html latex chm
useDataset text html latex example chm
useMart text html latex example chm
Microsoft HTML Help Compiler 4.74.8702
Compiling e:\biocbld\bbs-2.0-bioc\meat\biomaRt\chm\biomaRt.chm
Compile time: 0 minutes, 0 seconds
24 Topics
46 Local links
8 Internet links
1 Graphic
Created e:\biocbld\bbs-2.0-bioc\meat\biomaRt\chm\biomaRt.chm, 33,626 bytes
Compression decreased file by 29,470 bytes.
adding MD5 sums
* DONE (biomaRt)
* creating vignettes ... OK
* removing junk files
* checking for LF line-endings in source files
* checking for empty or unneeded directories
* building 'biomaRt_1.10.0.tar.gz'