Back to the "Multiple platform build/check report"
| Package 27/214 | Hostname | OS | Arch | BUILD | CHECK | BUILD BIN |
bgx1.0.1Ernest TurroLast Changed Date: 2007-04-25 06:34:10 -0700 Last Changed Rev: 24257 | lamb1 | Linux (SUSE 10.1) | x86_64 | OK | OK | |
| wellington | Linux (SUSE 9.2) | i686 | OK | ERROR | ||
| churchill | Solaris 2.9 | sparc | ERROR | skipped | ||
| lemming | Windows Server 2003 (32-bit) | x64 | N O T S U P P O R T E D | |||
| liverpool | Windows Server 2003 R2 (32-bit) | x64 | N O T S U P P O R T E D | |||
| derby | Mac OS X (10.4.9) | i686 | [ OK ] | ERROR | ||
| Package: bgx |
| Version: 1.0.1 |
| Command: /Library/Frameworks/R.framework/Resources/bin/R CMD build bgx |
| RetCode: 0 |
| Time: 143.8 seconds |
| Status: OK |
| PackageFile: bgx_1.0.1.tar.gz |
* checking for file 'bgx/DESCRIPTION' ... OK
* preparing 'bgx':
* checking DESCRIPTION meta-information ... OK
* cleaning src
* checking whether 'INDEX' is up-to-date ... OK
* installing the package to re-build vignettes
* Installing *source* package 'bgx' ...
checking for gcc... gcc-4.0 -arch i386 -isysroot /Developer/SDKs/MacOSX10.4u.sdk
checking for C compiler default output file name... a.out
checking whether the C compiler works... yes
checking whether we are cross compiling... no
checking for suffix of executables...
checking for suffix of object files... o
checking whether we are using the GNU C compiler... yes
checking whether gcc-4.0 -arch i386 -isysroot /Developer/SDKs/MacOSX10.4u.sdk accepts -g... yes
checking for gcc-4.0 -arch i386 -isysroot /Developer/SDKs/MacOSX10.4u.sdk option to accept ISO C89... none needed
checking for C compiler vendor... gnu
checking build system type... i686-apple-darwin8.9.1
checking host system type... i686-apple-darwin8.9.1
checking whether C compiler accepts -fstrict-aliasing... yes
checking whether C compiler accepts -ffast-math... yes
checking for gcc architecture flag...
checking for x86 cpuid 0 output... unknown
checking for x86 cpuid 1 output... unknown
checking whether C compiler accepts -march=pentiumpro... yes
checking for gcc architecture flag... -march=pentiumpro
checking whether C compiler accepts -O3 -fomit-frame-pointer -fstrict-aliasing -ffast-math -march=pentiumpro... yes
checking for gcc-4.0 -arch i386 -isysroot /Developer/SDKs/MacOSX10.4u.sdk option to accept ISO C99... -std=gnu99
checking for main in -lm... yes
checking whether we are using the GNU C++ compiler... yes
checking whether g++-4.0 -arch i386 -isysroot /Developer/SDKs/MacOSX10.4u.sdk accepts -g... yes
checking build system type... (cached) i686-apple-darwin8.9.1
checking for boostlib >= 1.31.0... yes
checking whether the Boost::Filesystem library is available... yes
checking for main in -lboost_filesystem... yes
checking whether the Boost::Program_Options library is available... yes
checking for main in -lboost_program_options... yes
checking whether the Boost::Thread library is available... yes
checking for main in -lboost_thread... yes
checking whether the Boost::IOStreams library is available... yes
checking for main in -lboost_iostreams... yes
checking whether the Boost::Serialization library is available... yes
checking for main in -lboost_serialization... yes
checking for main in -lboost_wserialization... yes
checking whether the Boost::Signals library is available... yes
checking for main in -lboost_signals... yes
checking whether the Boost::Date_Time library is available... yes
checking for main in -lboost_date_time... yes
checking whether the Boost::Regex library is available... yes
checking for main in -lboost_regex... yes
checking whether the Boost::UnitTestFramework library is available... yes
checking the name of the Boost::UnitTestFramework library...
checking for an ANSI C-conforming const... yes
checking for inline... inline
configure: creating ./config.status
config.status: creating src/Makevars
** libs
** arch - i386
g++-4.0 -arch i386 -isysroot /Developer/SDKs/MacOSX10.4u.sdk -no-cpp-precomp -I/Library/Frameworks/R.framework/Resources/include -I/Library/Frameworks/R.framework/Resources/include/i386 -I/opt/local/include -msse3 -fPIC -g -O2 -march=nocona -O3 -fomit-frame-pointer -fstrict-aliasing -ffast-math -march=pentiumpro -DUSING_R -c bgx.cc -o bgx.o
g++-4.0 -arch i386 -isysroot /Developer/SDKs/MacOSX10.4u.sdk -no-cpp-precomp -I/Library/Frameworks/R.framework/Resources/include -I/Library/Frameworks/R.framework/Resources/include/i386 -I/opt/local/include -msse3 -fPIC -g -O2 -march=nocona -O3 -fomit-frame-pointer -fstrict-aliasing -ffast-math -march=pentiumpro -DUSING_R -c bgx_frontend.cc -o bgx_frontend.o
gcc-4.0 -arch i386 -isysroot /Developer/SDKs/MacOSX10.4u.sdk -no-cpp-precomp -I/Library/Frameworks/R.framework/Resources/include -I/Library/Frameworks/R.framework/Resources/include/i386 -I/opt/local/include -msse3 -D__NO_MATH_INLINES -fPIC -g -O2 -std=gnu99 -march=nocona -O3 -fomit-frame-pointer -fstrict-aliasing -ffast-math -march=pentiumpro -std=gnu99 -c qnorm.c -o qnorm.o
g++-4.0 -arch i386 -isysroot /Developer/SDKs/MacOSX10.4u.sdk -no-cpp-precomp -I/Library/Frameworks/R.framework/Resources/include -I/Library/Frameworks/R.framework/Resources/include/i386 -I/opt/local/include -msse3 -fPIC -g -O2 -march=nocona -O3 -fomit-frame-pointer -fstrict-aliasing -ffast-math -march=pentiumpro -DUSING_R -c rundir.cc -o rundir.o
g++-4.0 -arch i386 -isysroot /Developer/SDKs/MacOSX10.4u.sdk -no-cpp-precomp -I/Library/Frameworks/R.framework/Resources/include -I/Library/Frameworks/R.framework/Resources/include/i386 -I/opt/local/include -msse3 -fPIC -g -O2 -march=nocona -O3 -fomit-frame-pointer -fstrict-aliasing -ffast-math -march=pentiumpro -DUSING_R -c sokal.cc -o sokal.o
g++-4.0 -arch i386 -isysroot /Developer/SDKs/MacOSX10.4u.sdk -dynamiclib -Wl,-macosx_version_min -Wl,10.3 -undefined dynamic_lookup -single_module -multiply_defined suppress -L/usr/local/lib -o bgx.so bgx.o bgx_frontend.o qnorm.o rundir.o sokal.o -lm -F/Library/Frameworks/R.framework/.. -framework R
** R
** inst
** preparing package for lazy loading
Loading required package: Biobase
Loading required package: tools
Welcome to Bioconductor
Vignettes contain introductory material. To view, type
'openVignette()'. To cite Bioconductor, see
'citation("Biobase")' and for packages 'citation(pkgname)'.
Loading required package: affy
Loading required package: affyio
Loading required package: gcrma
Loading required package: matchprobes
Loading required package: splines
** help
>>> Building/Updating help pages for package 'bgx'
Formats: text html latex example
analysis.bgx text html latex example
bgx text html latex example
mcmc.bgx text html latex example
readOutput.bgx text html latex example
saveAffinityPlot.bgx text html latex example
setupVars.bgx text html latex example
** building package indices ...
* DONE (bgx)
* creating vignettes ... OK
* cleaning src
* removing junk files
* checking for LF line-endings in source files
* checking for empty or unneeded directories
* building 'bgx_1.0.1.tar.gz'