Back to the "Multiple platform build/check report"
| Package 25/214 | Hostname | OS | Arch | BUILD | CHECK | BUILD BIN | 
beadarraySNP1.2.0Jan OostingLast Changed Date: 2007-04-24 11:21:48 -0700 Last Changed Rev: 24214  | lamb1 | Linux (SUSE 10.1) | x86_64 | OK | OK | |
| wellington | Linux (SUSE 9.2) | i686 | OK | OK | ||
| churchill | Solaris 2.9 | sparc | OK | OK | ||
| lemming | Windows Server 2003 (32-bit) | x64 | OK | OK | [ OK ] | |
| liverpool | Windows Server 2003 R2 (32-bit) | x64 | OK | OK | OK | |
| derby | Mac OS X (10.4.9) | i686 | OK | OK | 
| Package: beadarraySNP | 
| Version: 1.2.0 | 
| Command: D:\biocbld\bbs-2.0-bioc\R\bin\R.exe CMD INSTALL --build --library=beadarraySNP.BUILDBINinstdir beadarraySNP_1.2.0.tar.gz | 
| RetCode: 0 | 
| Time: 18.0 seconds | 
| Status: OK | 
| PackageFile: beadarraySNP_1.2.0.zip | 
installing R.css in D:/biocbld/bbs-2.0-bioc/meat/beadarraySNP.BUILDBINinstdir
Using auto-selected zip options ' beadarraySNP-HELP=ziponly'
---------- Making package beadarraySNP ------------
  adding build stamp to DESCRIPTION
  installing NAMESPACE file and metadata
  installing R files
  installing inst files
  installing data files
  installing man source files
  installing indices
  not zipping data
  installing help
 >>> Building/Updating help pages for package 'beadarraySNP'
     Formats: text html latex example chm 
  CopynumberConversion              text    html    latex   example chm
  Datasets                          text    html    latex           chm
  GenomicReports                    text    html    latex   example chm
  PolarTransforms                   text    html    latex   example chm
  QCIllumina-class                  text    html    latex           chm
  arrayType                         text    html    latex           chm
  backgroundCorrect.SNP             text    html    latex   example chm
  backgroundEstimate                text    html    latex   example chm
  calculateLOH                      text    html    latex   example chm
  calculateQCarray                  text    html    latex   example chm
  class.SnpSetIllumina              text    html    latex           chm
  compareGenotypes                  text    html    latex   example chm
  heterozygosity                    text    html    latex   example chm
  heterozygousSNPs                  text    html    latex   example chm
  normalizeBetweenAlleles.SNP       text    html    latex   example chm
  normalizeLoci.SNP                 text    html    latex   example chm
  normalizeWithinArrays.SNP         text    html    latex   example chm
  pdfChromosomesSmoothCopyNumber    text    html    latex   example chm
  pdfQC                             text    html    latex           chm
  plotQC                            text    html    latex   example chm
  read.SnpSetIllumina               text    html    latex   example chm
  removeLowQualityProbes            text    html    latex           chm
  removeLowQualitySamples           text    html    latex   example chm
  renameOPA                         text    html    latex   example chm
  reportSamplePanelQC-methods       text    html    latex   example chm
  smoothed.intensity                text    html    latex   example chm
  standardNormalization             text    html    latex   example chm
  zipping help files
Microsoft HTML Help Compiler 4.74.8702
Compiling d:\biocbld\bbs-2.0-bioc\meat\R.INSTALL.8684\beadarraySNP\chm\beadarraySNP.chm
Compile time: 0 minutes, 0 seconds
28	Topics
131	Local links
0	Internet links
1	Graphic
Created d:\biocbld\bbs-2.0-bioc\meat\R.INSTALL.8684\beadarraySNP\chm\beadarraySNP.chm, 48,265 bytes
Compression decreased file by 56,024 bytes.
  preparing package beadarraySNP for lazy loading
Loading required package: tools
Loading required package: Biobase
Welcome to Bioconductor
  Vignettes contain introductory material. To view, type
  'openVignette()'. To cite Bioconductor, see
  'citation("Biobase")' and for packages 'citation(pkgname)'.
Loading required package: quantsmooth
Loading required package: quantreg
Loading required package: SparseM
Loading required package: lodplot
Loading required package: grid
  adding MD5 sums
packaged installation of package 'beadarraySNP' as beadarraySNP_1.2.0.zip
* DONE (beadarraySNP)