Back to the "Multiple platform build/check report"
| Package 22/214 | Hostname | OS | Arch | BUILD | CHECK | BUILD BIN |
arrayQCplot2.4.0Eun-kyung LeeLast Changed Date: 2007-04-24 11:21:48 -0700 Last Changed Rev: 24214 | lamb1 | Linux (SUSE 10.1) | x86_64 | OK | OK | |
| wellington | Linux (SUSE 9.2) | i686 | OK | ERROR | ||
| churchill | Solaris 2.9 | sparc | OK | ERROR | ||
| lemming | Windows Server 2003 (32-bit) | x64 | N O T S U P P O R T E D | |||
| liverpool | Windows Server 2003 R2 (32-bit) | x64 | OK | OK | [ OK ] | |
| derby | Mac OS X (10.4.9) | i686 | OK | ERROR | ||
| Package: arrayQCplot |
| Version: 2.4.0 |
| Command: E:\biocbld\bbs-2.0-bioc\R\bin\R.exe CMD INSTALL --build --library=arrayQCplot.BUILDBINinstdir arrayQCplot_2.4.0.tar.gz |
| RetCode: 0 |
| Time: 18.0 seconds |
| Status: OK |
| PackageFile: arrayQCplot_2.4.0.zip |
installing R.css in E:/biocbld/bbs-2.0-bioc/meat/arrayQCplot.BUILDBINinstdir
Using auto-selected zip options ''
---------- Making package arrayQCplot ------------
adding build stamp to DESCRIPTION
installing R files
installing inst files
installing man source files
installing indices
installing help
>>> Building/Updating help pages for package 'arrayQCplot'
Formats: text html latex example chm
arrayQC.plot text html latex example chm
Microsoft HTML Help Compiler 4.74.8702
Compiling e:\biocbld\bbs-2.0-bioc\meat\R.INSTALL.2784\arrayQCplot\chm\arrayQCplot.chm
Compile time: 0 minutes, 0 seconds
2 Topics
2 Local links
0 Internet links
1 Graphic
Created e:\biocbld\bbs-2.0-bioc\meat\R.INSTALL.2784\arrayQCplot\chm\arrayQCplot.chm, 15,652 bytes
Compression increased file by 9,217 bytes.
preparing package arrayQCplot for lazy loading
Loading required package: RGtk2
Loading required package: cairoDevice
Loading required package: LPE
adding MD5 sums
packaged installation of package 'arrayQCplot' as arrayQCplot_2.4.0.zip
* DONE (arrayQCplot)