Back to the "Multiple platform build/check report"
| Package 20/214 | Hostname | OS | Arch | BUILD | CHECK | BUILD BIN | 
| aroma.light1.4.0Henrik BengtssonLast Changed Date: 2007-04-24 11:21:48 -0700 Last Changed Rev: 24214 | lamb1 | Linux (SUSE 10.1) | x86_64 | OK | OK | |
| wellington | Linux (SUSE 9.2) | i686 | OK | OK | ||
| churchill | Solaris 2.9 | sparc | OK | OK | ||
| lemming | Windows Server 2003 (32-bit) | x64 | [ OK ] | OK | OK | |
| liverpool | Windows Server 2003 R2 (32-bit) | x64 | OK | OK | OK | |
| derby | Mac OS X (10.4.9) | i686 | OK | OK | 
| Package: aroma.light | 
| Version: 1.4.0 | 
| Command: D:\biocbld\bbs-2.0-bioc\R\bin\R.exe CMD build aroma.light | 
| RetCode: 0 | 
| Time: 3.5 seconds | 
| Status: OK | 
| PackageFile: aroma.light_1.4.0.tar.gz | 
* checking for file 'aroma.light/DESCRIPTION' ... OK * preparing 'aroma.light': * checking DESCRIPTION meta-information ... OK * removing junk files * checking for LF line-endings in source files * checking for empty or unneeded directories * building 'aroma.light_1.4.0.tar.gz'