Back to the "Multiple platform build/check report"
| Package 11/214 | Hostname | OS | Arch | BUILD | CHECK | BUILD BIN |
affypdnn1.10.0Laurent GautierLast Changed Date: 2007-04-24 11:21:48 -0700 Last Changed Rev: 24214 | lamb1 | Linux (SUSE 10.1) | x86_64 | OK | OK | |
| wellington | Linux (SUSE 9.2) | i686 | OK | OK | ||
| churchill | Solaris 2.9 | sparc | OK | OK | ||
| lemming | Windows Server 2003 (32-bit) | x64 | OK | OK | OK | |
| liverpool | Windows Server 2003 R2 (32-bit) | x64 | OK | OK | [ OK ] | |
| derby | Mac OS X (10.4.9) | i686 | OK | OK |
| Package: affypdnn |
| Version: 1.10.0 |
| Command: E:\biocbld\bbs-2.0-bioc\R\bin\R.exe CMD INSTALL --build --library=affypdnn.BUILDBINinstdir affypdnn_1.10.0.tar.gz |
| RetCode: 0 |
| Time: 29.0 seconds |
| Status: OK |
| PackageFile: affypdnn_1.10.0.zip |
installing R.css in E:/biocbld/bbs-2.0-bioc/meat/affypdnn.BUILDBINinstdir
Using auto-selected zip options 'affypdnn-ZIPDATA=zip'
---------- Making package affypdnn ------------
adding build stamp to DESCRIPTION
installing R files
installing inst files
installing data files
installing man source files
installing indices
zipping data
installing help
>>> Building/Updating help pages for package 'affypdnn'
Formats: text html latex example chm
chiptype.pdnn.params text html latex example chm
expressopdnn text html latex example chm
find.params.pdnn text html latex example chm
generateExprVal.method.pdnn text html latex example chm
matplotProbesPDNN text html latex example chm
pdnn.params.chiptype text html latex example chm
transform.ProbeSet text html latex example chm
Microsoft HTML Help Compiler 4.74.8702
Compiling e:\biocbld\bbs-2.0-bioc\meat\R.INSTALL.292\affypdnn\chm\affypdnn.chm
Compile time: 0 minutes, 0 seconds
8 Topics
31 Local links
0 Internet links
1 Graphic
Created e:\biocbld\bbs-2.0-bioc\meat\R.INSTALL.292\affypdnn\chm\affypdnn.chm, 27,515 bytes
Compression decreased file by 8,104 bytes.
adding MD5 sums
packaged installation of package 'affypdnn' as affypdnn_1.10.0.zip
* DONE (affypdnn)